BEGIN:VCALENDAR
VERSION:2.0
PRODID:-//Octubre Centre de Cultura Contemporània - ECPv5.1.6//NONSGML v1.0//EN
CALSCALE:GREGORIAN
METHOD:PUBLISH
X-WR-CALNAME:Octubre Centre de Cultura Contemporània
X-ORIGINAL-URL:https://octubre.cat
X-WR-CALDESC:Events for Octubre Centre de Cultura Contemporània
BEGIN:VTIMEZONE
TZID:Europe/Andorra
BEGIN:DAYLIGHT
TZOFFSETFROM:+0100
TZOFFSETTO:+0200
TZNAME:CEST
DTSTART:20190331T010000
END:DAYLIGHT
BEGIN:STANDARD
TZOFFSETFROM:+0200
TZOFFSETTO:+0100
TZNAME:CET
DTSTART:20191027T010000
END:STANDARD
END:VTIMEZONE
BEGIN:VEVENT
DTSTART;TZID=Europe/Andorra:20191205T200000
DTEND;TZID=Europe/Andorra:20191205T200000
DTSTAMP:20260421T054650
CREATED:20200729T173615Z
LAST-MODIFIED:20200729T191258Z
UID:11585-1575576000-1575576000@octubre.cat
SUMMARY:Cesk Freixas presenta "Festa major"
DESCRIPTION:Dijous 5 de desembre a les 20.00h. Entrades a 8 i 10 euros.	 \n  \n  \n\n 	 Aquest 2019 és un any molt especial per en Cesk Freixas . Celebra quinze anys de trajectòria artística de la millor manera possible\, recorrent un cop més de nord a sud tota la geografia dels Països Catalans amb un nou disc sota el braç\, el setè de la seva discografia. Quinze anys i 1.600 concerts d’una aventura musical que amb Festa Major (U98 Music) marca un dels moments creatius més brillants d’un Freixas consolidat des de fa anys com un dels autors més importants en llengua catalana.  Aquesta commemoració arriba després d’uns anys molt intensos en l’àmbit personal. A l’alegria del naixement de la seva filla\, es va unir el dol per la inesperada pèrdua del pare. Uns anys que a escala social i nacional han estat convulsos; on han saltat pels aires les mentides del sistema\, les seves vergonyes han quedat exposades i s’han articulat propostes de canvi. És aquest substrat vivencial i social el que alimenta una obra plena de llum on Freixas endinsa l’oient en un vibrant univers emocional. A través d’un paisatge sonor amb molt d’espai\, on la veu i la lírica hi tenen un protagonisme principal\, amb camins de guitarres que s’entrellacen amb elements més electrònics.  El resultat és un directe més modern i internacional\, una alenada de brisa fresca per les seves cançons d’ara i de sempre que sorprendrà positivament els seus seguidors i l’acostarà a nous públics en tant que es deslliura de qualsevol etiqueta limitadora. Cançons que són\, al mateix temps\, pulsions de vida i moments per a celebrar.  — Apertura de portes: 19.30h Entrades: –10 euros a taquilla –8 euros anticipada a través d’aquest enllaç
URL:https://octubre.cat/activitat/cesk-freixas-presenta-festa-major/
LOCATION:Sala d’actes
CATEGORIES:Música
ATTACH;FMTTYPE=image/jpeg:https://octubre.cat/www/wp-content/uploads/2020/07/activitat3381.jpg
END:VEVENT
END:VCALENDAR