BEGIN:VCALENDAR
VERSION:2.0
PRODID:-//Octubre Centre de Cultura Contemporània - ECPv5.1.6//NONSGML v1.0//EN
CALSCALE:GREGORIAN
METHOD:PUBLISH
X-WR-CALNAME:Octubre Centre de Cultura Contemporània
X-ORIGINAL-URL:https://octubre.cat
X-WR-CALDESC:Events for Octubre Centre de Cultura Contemporània
BEGIN:VTIMEZONE
TZID:Europe/Andorra
BEGIN:DAYLIGHT
TZOFFSETFROM:+0100
TZOFFSETTO:+0200
TZNAME:CEST
DTSTART:20160327T010000
END:DAYLIGHT
BEGIN:STANDARD
TZOFFSETFROM:+0200
TZOFFSETTO:+0100
TZNAME:CET
DTSTART:20161030T010000
END:STANDARD
END:VTIMEZONE
BEGIN:VEVENT
DTSTART;TZID=Europe/Andorra:20161130T190000
DTEND;TZID=Europe/Andorra:20161130T190000
DTSTAMP:20260421T040642
CREATED:20200729T172148Z
LAST-MODIFIED:20200729T185636Z
UID:10867-1480532400-1480532400@octubre.cat
SUMMARY:'Cerca de tu casa'\, d’Eduard Cortés
DESCRIPTION:Dimecres 30 de novembre a les 19.00h. Projecció inclosa en el cicle de cinema Barcelona Escenari 2016 i presentada per Loris Omedes (productor del film). Entrada lliure.  \n  \n  \n\n Projecció presentada per Loris Omedes (productor del film).  Pel·lícula musical sobre els desnonaments a Espanya amb motiu de la crisi econòmica. Després de perdre sa casa per no poder pagar-la\, un jove matrimoni\, amb una filla de 10 anys\, es muda a casa dels pares d’ella\, però aquest pis també es veurà amenaçat pel banc\, ja que havia servit com aval de la hipoteca de la filla.  Premi a la millor banda sonora en el Festival de Màlaga de 2016  Direcció: Eduard Cortés (2016) Guió: Eduard Cortés i Piti Español Música: Sílvia Pérez Cruz Fotografia: David Omedes Repartiment: Sílvia Pérez Cruz\, Oriol Vila\, Lluís Homar\, Adriana Ozores\, Ivan Massagué\, Iván Benet\, Manuel Morón Producció: Bausan Films / Televisió de Catalunya (TV3) / Televisión Española (TVE) Durada: 93’  — Cicle organitzat per l’Octubre Centre de Cultura Contemporània amb el patrocini de l’Institut de Cultura de Barcelona Direcció del cicle: Antonio Lloréns Entrada lliure
URL:https://octubre.cat/activitat/cerca-de-tu-casa-deduard-cortes/
LOCATION:Sala d’actes
CATEGORIES:Barcelona Escenari 2016 (cinema)
ATTACH;FMTTYPE=image/jpeg:https://octubre.cat/www/wp-content/uploads/2020/07/activitat2691.jpg
END:VEVENT
END:VCALENDAR