BEGIN:VCALENDAR
VERSION:2.0
PRODID:-//Octubre Centre de Cultura Contemporània - ECPv5.1.6//NONSGML v1.0//EN
CALSCALE:GREGORIAN
METHOD:PUBLISH
X-WR-CALNAME:Octubre Centre de Cultura Contemporània
X-ORIGINAL-URL:https://octubre.cat
X-WR-CALDESC:Events for Octubre Centre de Cultura Contemporània
BEGIN:VTIMEZONE
TZID:Europe/Andorra
BEGIN:DAYLIGHT
TZOFFSETFROM:+0100
TZOFFSETTO:+0200
TZNAME:CEST
DTSTART:20100328T010000
END:DAYLIGHT
BEGIN:STANDARD
TZOFFSETFROM:+0200
TZOFFSETTO:+0100
TZNAME:CET
DTSTART:20101031T010000
END:STANDARD
END:VTIMEZONE
BEGIN:VEVENT
DTSTART;TZID=Europe/Andorra:20100619T110000
DTEND;TZID=Europe/Andorra:20100619T110000
DTSTAMP:20260420T165853
CREATED:20200729T164954Z
LAST-MODIFIED:20200730T042525Z
UID:8874-1276945200-1276945200@octubre.cat
SUMMARY:Cent anys d'anarcosindicalisme
DESCRIPTION:Dissabte 19 de juny\, a les 11.00h: Míting amb motiu del centenari de la CNT (1910-2010). Organitza: CNT València.   \n  \n  \n\nCent anys d’anarcosindicalisme  Míting amb motiu del centenari de la CNT (1910-2010) amb la intervenció de Blaky (CNT-Elda)\, Salomé (CNT-Alcoi) i Manuel Vicent (CNT-La Plana).   Organitza: CNT València
URL:https://octubre.cat/activitat/cent-anys-danarcosindicalisme/
LOCATION:No definit
CATEGORIES:Literatura
ATTACH;FMTTYPE=image/png:https://octubre.cat/www/wp-content/uploads/2020/07/activitat1224.png
END:VEVENT
END:VCALENDAR