BEGIN:VCALENDAR
VERSION:2.0
PRODID:-//Octubre Centre de Cultura Contemporània - ECPv5.1.6//NONSGML v1.0//EN
CALSCALE:GREGORIAN
METHOD:PUBLISH
X-WR-CALNAME:Octubre Centre de Cultura Contemporània
X-ORIGINAL-URL:https://octubre.cat
X-WR-CALDESC:Events for Octubre Centre de Cultura Contemporània
BEGIN:VTIMEZONE
TZID:Europe/Andorra
BEGIN:DAYLIGHT
TZOFFSETFROM:+0100
TZOFFSETTO:+0200
TZNAME:CEST
DTSTART:20210328T010000
END:DAYLIGHT
BEGIN:STANDARD
TZOFFSETFROM:+0200
TZOFFSETTO:+0100
TZNAME:CET
DTSTART:20211031T010000
END:STANDARD
END:VTIMEZONE
BEGIN:VEVENT
DTSTART;TZID=Europe/Andorra:20210323T190000
DTEND;TZID=Europe/Andorra:20210323T190000
DTSTAMP:20260422T221857
CREATED:20210316T101348Z
LAST-MODIFIED:20210316T102946Z
UID:16171-1616526000-1616526000@octubre.cat
SUMMARY:Celebrem l'Any Felícia Fuster. Dia Mundial de la Poesia
DESCRIPTION:Acte amb motiu del Dia Mundial de la Poesia \nConversa entre\n—Lluïsa Julià\, comissària literària de l’Any Felícia Fuster\n—Manolo Gil\, vicepresident del PEN Català\n—Àngels Gregori\, presidenta del PEN Català \nLectura de poemes a càrrec de\n—Jaume Pérez Montaner\n—Manel Rodríguez Castelló \n—\nOrganitzat pel PEN Català amb la col·laboració de la Institució de les Lletres Catalanes\, l’Ajuntament de Barcelona i l’Octubre CCC
URL:https://octubre.cat/activitat/celebrem-lany-felicia-fuster/
LOCATION:Hall
CATEGORIES:Literatura
ATTACH;FMTTYPE=image/jpeg:https://octubre.cat/www/wp-content/uploads/2021/03/logo-felicia-fuster-h.jpg
END:VEVENT
END:VCALENDAR