BEGIN:VCALENDAR
VERSION:2.0
PRODID:-//Octubre Centre de Cultura Contemporània - ECPv5.1.6//NONSGML v1.0//EN
CALSCALE:GREGORIAN
METHOD:PUBLISH
X-WR-CALNAME:Octubre Centre de Cultura Contemporània
X-ORIGINAL-URL:https://octubre.cat
X-WR-CALDESC:Events for Octubre Centre de Cultura Contemporània
BEGIN:VTIMEZONE
TZID:Europe/Andorra
BEGIN:DAYLIGHT
TZOFFSETFROM:+0100
TZOFFSETTO:+0200
TZNAME:CEST
DTSTART:20180325T010000
END:DAYLIGHT
BEGIN:STANDARD
TZOFFSETFROM:+0200
TZOFFSETTO:+0100
TZNAME:CET
DTSTART:20181028T010000
END:STANDARD
END:VTIMEZONE
BEGIN:VEVENT
DTSTART;TZID=Europe/Andorra:20180423T193000
DTEND;TZID=Europe/Andorra:20180423T193000
DTSTAMP:20260421T101451
CREATED:20200729T190352Z
LAST-MODIFIED:20200729T190352Z
UID:13381-1524511800-1524511800@octubre.cat
SUMMARY:Celebració de la diada de Sant Jordi 2018
DESCRIPTION:Dilluns 23 d’abril a les 19.30h. Celebració del dia del llibre a València\, amb roses\, lectures\, brindis\, fotografia de grup i alguna sorpresa i homenatge al poeta Manel Marí. Organitzat per l’AELC amb la col·laboració d’ACPV. Entrada lliure.  \n  \n  \n\n Celebració del dia del llibre a València\, amb roses\, lectures\, brindis\, fotografia de grup i alguna sorpresa.  Amb lectures d’homenatge al poeta Manel Marí. Per a participar en l’homenatge contacteu l’oficina de l’AELC a aelc@escriptors.cat / 93 302 78 28 (lectura d’1 minut de durada\, d’obra pròpia o un poema de Manel Marí).  — Organitzat per l’Associació d’Escriptors en Llengua Catalana (AELC) amb la col·laboració d’Acció Cultural del País Valencià.
URL:https://octubre.cat/activitat/celebracio-de-la-diada-de-sant-jordi-2018/
LOCATION:Hall
CATEGORIES:Literatura
ATTACH;FMTTYPE=image/jpeg:https://octubre.cat/www/wp-content/uploads/2020/07/activitat3023.jpg
END:VEVENT
END:VCALENDAR