BEGIN:VCALENDAR
VERSION:2.0
PRODID:-//Octubre Centre de Cultura Contemporània - ECPv5.1.6//NONSGML v1.0//EN
CALSCALE:GREGORIAN
METHOD:PUBLISH
X-WR-CALNAME:Octubre Centre de Cultura Contemporània
X-ORIGINAL-URL:https://octubre.cat
X-WR-CALDESC:Events for Octubre Centre de Cultura Contemporània
BEGIN:VTIMEZONE
TZID:Europe/Andorra
BEGIN:DAYLIGHT
TZOFFSETFROM:+0100
TZOFFSETTO:+0200
TZNAME:CEST
DTSTART:20130331T010000
END:DAYLIGHT
BEGIN:STANDARD
TZOFFSETFROM:+0200
TZOFFSETTO:+0100
TZNAME:CET
DTSTART:20131027T010000
END:STANDARD
END:VTIMEZONE
BEGIN:VEVENT
DTSTART;TZID=Europe/Andorra:20130606T190000
DTEND;TZID=Europe/Andorra:20130606T190000
DTSTAMP:20260424T002953
CREATED:20200729T170055Z
LAST-MODIFIED:20200729T184133Z
UID:9554-1370545200-1370545200@octubre.cat
SUMMARY:'Cavalls'\, de F. Martí i P. Barreda
DESCRIPTION:Dijous 6 de juny a les 19.00h. Projecció del documental ‘Cavalls’ de Francisco Martí i Paco Barreda  \n  \n  \n\n Cavalls conta la història dels membres d’una familia que comparteixen la passió pels cavalls i per la terra on viuen\, Menorca. La importància de les arrels i la identitat són els temes sobre els quals versen aquestes quatre històries que abasten les diferents estacions de l`any i que tenen el cavall menorquí com a centre de totes elles.  Cooproducció: Assisimerli i Amaltea audiovisuals.  Direcció: Francisco Martí i Paco Barreda Producció executiva: Francisco Martí\, Miguel Miralles i Álvaro Galindo  Guió: Guadalupe Sáez Moreno  FotografIa: Paco Barreda Direcció de producció: Francisco Martí I Nuria Cardona Muntatge i postproducció: Paco Barreda Operadors de càmera: Paco Barreda i Joan Cadenas So directe: Lucía Galindo Amb la col·laboració musical de Joana Pons I la veu en off d’Àngels Gonyalons
URL:https://octubre.cat/activitat/cavalls-de-f-marti-i-p-barreda/
LOCATION:Sala d’actes
CATEGORIES:Cinema
ATTACH;FMTTYPE=image/jpeg:https://octubre.cat/www/wp-content/uploads/2020/07/activitat1810.jpg
END:VEVENT
END:VCALENDAR