BEGIN:VCALENDAR
VERSION:2.0
PRODID:-//Octubre Centre de Cultura Contemporània - ECPv5.1.6//NONSGML v1.0//EN
CALSCALE:GREGORIAN
METHOD:PUBLISH
X-WR-CALNAME:Octubre Centre de Cultura Contemporània
X-ORIGINAL-URL:https://octubre.cat
X-WR-CALDESC:Events for Octubre Centre de Cultura Contemporània
BEGIN:VTIMEZONE
TZID:Europe/Andorra
BEGIN:DAYLIGHT
TZOFFSETFROM:+0100
TZOFFSETTO:+0200
TZNAME:CEST
DTSTART:20190331T010000
END:DAYLIGHT
BEGIN:STANDARD
TZOFFSETFROM:+0200
TZOFFSETTO:+0100
TZNAME:CET
DTSTART:20191027T010000
END:STANDARD
END:VTIMEZONE
BEGIN:VEVENT
DTSTART;TZID=Europe/Andorra:20190708T000000
DTEND;TZID=Europe/Andorra:20190720T000000
DTSTAMP:20260421T225007
CREATED:20200729T173434Z
LAST-MODIFIED:20200905T151050Z
UID:11466-1562544000-1563580800@octubre.cat
SUMMARY:Catalans a l'Orinoco. 100 anys d'aventura científica
DESCRIPTION:L’exposició Catalans a l’Orinoco. 100 anys d’aventura científica és un reconeixement a la tasca duta a terme per Fèlix Cardona i Puig i per Joan Maria Mundó\, Josep Maria Cruxent\, Pau Vila i Marc Aureli Vila\, que a principis del segle XX van explorar diverses zones de Veneçuela des de vessants com la cartografia\, l’etnografia\, la botànica i la geologia\, tenint en compte els ideals aventurers de l’època. Catalans que tenen un paper important a la història científica de Veneçuela\, de Catalunya i a altres països americans. \nUna producció del Museu Etnològic i de Cultures del Món (MUEC) de Barcelona.
URL:https://octubre.cat/activitat/catalans-a-lorinoco-100-anys-daventura-cientifica/
LOCATION:Hall
CATEGORIES:Exposicions
ATTACH;FMTTYPE=image/jpeg:https://octubre.cat/www/wp-content/uploads/2020/07/activitat3311.jpg
END:VEVENT
END:VCALENDAR