BEGIN:VCALENDAR
VERSION:2.0
PRODID:-//Octubre Centre de Cultura Contemporània - ECPv5.1.6//NONSGML v1.0//EN
CALSCALE:GREGORIAN
METHOD:PUBLISH
X-WR-CALNAME:Octubre Centre de Cultura Contemporània
X-ORIGINAL-URL:https://octubre.cat
X-WR-CALDESC:Events for Octubre Centre de Cultura Contemporània
BEGIN:VTIMEZONE
TZID:Europe/Andorra
BEGIN:DAYLIGHT
TZOFFSETFROM:+0100
TZOFFSETTO:+0200
TZNAME:CEST
DTSTART:20100328T010000
END:DAYLIGHT
BEGIN:STANDARD
TZOFFSETFROM:+0200
TZOFFSETTO:+0100
TZNAME:CET
DTSTART:20101031T010000
END:STANDARD
END:VTIMEZONE
BEGIN:VEVENT
DTSTART;TZID=Europe/Andorra:20100130T190000
DTEND;TZID=Europe/Andorra:20100130T190000
DTSTAMP:20260420T224928
CREATED:20200729T164701Z
LAST-MODIFIED:20200729T182739Z
UID:8700-1264878000-1264878000@octubre.cat
SUMMARY:Castigats
DESCRIPTION:Dissabte 30 de gener\, a les 19.00h: Projecció del documental “Castigats”\, de Luis García Verdú i Vicente Pascual\, amb els dos realitzadors i alguns dels testimonis que apareixen en el documental. Dins de les activitats paral·leles a l’exposició “La Derrota”.   \n  \n  \n\nProjecció del documental Castigats  Dins de les activitats paral·leles a l’exposició La Derrota\, que es desenvoluparan al llarg del mes de febrer.   Amb la presència dels dos directors\, Luis García Verdú i Vicente Pascual i els testimonis de Juan Matías Marhuenda\, Fernando Oltra\, Joaquín Sala i Evaristo Caselles\, que apareixen en el documental.  Fitxa tècnica Guió\, direcció i muntatge: Luis García Verdú i Vicente Pascual Idea\, recerca històrica i local·lització de testimonies: Josep Miquel Santacreu Soler Postproducció d’àudio: Roberto Ruiz de Zafra Infografia: Ramón Delegido Producció: Universitat d’Alacant – Fundació General   Castigats recupera de l’oblit el testimoni de set víctimes valencianes innocents de la repressió franquista i els dóna el reconeixement moral que mereixen i necessiten. Les seues vivències són colpidores i simbolitzen les de totes les persones que van patir la repressió franquista al País Valencià. Són els records de dos joves que van perdre la llibertat: Juan Matías Marhuenda\, en un batalló de treballadors i Carlos Gomis\, a la presó\, i també dels fills dels qui van patir les represàlies\, ja fóra l’afusellament\, l’empresonament o l’exili. Fernando Oltra\, Joaquín Sala i Evaristo Caselles hagueren de viure sense el seus pares (els tres foren afusellats en el cementeri de Dénia el 1939)\, el de Magdalena Urios fou empresonat a Oriola en acabar la guerra i Elisa Villalta va veure com el seu s’havia d’exiliar a Orà i\, a més\, que el seu oncle\, diputat socialista\, fóra afusellat al cementeri d’Alacant el 1942\, després d’anys emboscat a Monòver.   “I a mi em pregunten: ‘Vostè per què estava en les files roges?’ Va ser un accident geogràfic. Si a mi m’haguera agafat a Sevilla\, com a vostè\, potser jo ara estaria jutjant-lo”.
URL:https://octubre.cat/activitat/castigats/
LOCATION:No definit
CATEGORIES:entre la ficció i el documental,Nous realitzadors valencians
ATTACH;FMTTYPE=image/jpeg:https://octubre.cat/www/wp-content/uploads/2020/07/cinema1.jpg
END:VEVENT
END:VCALENDAR