BEGIN:VCALENDAR
VERSION:2.0
PRODID:-//Octubre Centre de Cultura Contemporània - ECPv5.1.6//NONSGML v1.0//EN
CALSCALE:GREGORIAN
METHOD:PUBLISH
X-WR-CALNAME:Octubre Centre de Cultura Contemporània
X-ORIGINAL-URL:https://octubre.cat
X-WR-CALDESC:Events for Octubre Centre de Cultura Contemporània
BEGIN:VTIMEZONE
TZID:Europe/Andorra
BEGIN:DAYLIGHT
TZOFFSETFROM:+0100
TZOFFSETTO:+0200
TZNAME:CEST
DTSTART:20140330T010000
END:DAYLIGHT
BEGIN:STANDARD
TZOFFSETFROM:+0200
TZOFFSETTO:+0100
TZNAME:CET
DTSTART:20141026T010000
END:STANDARD
END:VTIMEZONE
BEGIN:VEVENT
DTSTART;TZID=Europe/Andorra:20140513T120000
DTEND;TZID=Europe/Andorra:20140513T120000
DTSTAMP:20260421T070639
CREATED:20200729T170443Z
LAST-MODIFIED:20200730T041128Z
UID:9771-1399982400-1399982400@octubre.cat
SUMMARY:Carta Europea de la Laïcitat i de la Llibertat de Consciència
DESCRIPTION:Dimarts 13 a les 12.00h. Presentació del document a càrrec de València Laica  \n  \n  \n\n El passat 1 de març es va celebrar a València\, a l’Octubre CCC\, la X Jornada Laïcista amb el títol “Laïcitat i llibertat de consciència a Europa”\, en la qual es van analitzar els retrocessos que pateix la democràcia\, l’atac a l’emancipació dels éssers humans i als seus drets cívics més elementals i per tant l’esvaïment de la laïcitat en el conjunt dels països europeus\, a causa de la implantació d’ideologies neoliberals i de la renovada força que tenen diferents confessions religioses\, que tracten d’imposar la seua moral particular al conjunt de la ciutadania.  En aquesta Jornada van participar unes dues-centes persones provinents del País Valencià\, de tot l’Estat i d’arreu d’Europa.   En el marc d’aquesta jornada es va elaborar una “Carta Europea de la Laïcitat i de la Llibertat de consciència” per tal d’enviar-la a totes les institucions i governs europeus\, així com a l’ “Oficina Europea de Lliure Pensament” amb la finalitat de continuar avançant en la construcció d’una Europa solidària i amb drets per a tota la ciutadania sense distinció.  Aquesta “Carta por la Laïcitat i de la Llibertat de consciència” és la que desitgem presentar als partits polítics amb motiu del 9 de maig (Dia d’Europa) tot coincidint amb l’inici de la campanya de les Eleccions Europees.  Organitzat per València Laica
URL:https://octubre.cat/activitat/carta-europea-de-la-laicitat-i-de-la-llibertat-de-consciencia/
CATEGORIES:Conferències i congressos
ATTACH;FMTTYPE=image/jpeg:https://octubre.cat/www/wp-content/uploads/2020/07/activitat2070.jpg
END:VEVENT
END:VCALENDAR