BEGIN:VCALENDAR
VERSION:2.0
PRODID:-//Octubre Centre de Cultura Contemporània - ECPv5.1.6//NONSGML v1.0//EN
CALSCALE:GREGORIAN
METHOD:PUBLISH
X-WR-CALNAME:Octubre Centre de Cultura Contemporània
X-ORIGINAL-URL:https://octubre.cat
X-WR-CALDESC:Events for Octubre Centre de Cultura Contemporània
BEGIN:VTIMEZONE
TZID:Europe/Andorra
BEGIN:DAYLIGHT
TZOFFSETFROM:+0100
TZOFFSETTO:+0200
TZNAME:CEST
DTSTART:20110327T010000
END:DAYLIGHT
BEGIN:STANDARD
TZOFFSETFROM:+0200
TZOFFSETTO:+0100
TZNAME:CET
DTSTART:20111030T010000
END:STANDARD
END:VTIMEZONE
BEGIN:VEVENT
DTSTART;TZID=Europe/Andorra:20110304T200000
DTEND;TZID=Europe/Andorra:20110304T200000
DTSTAMP:20260420T163943
CREATED:20200729T165443Z
LAST-MODIFIED:20200730T042746Z
UID:9186-1299268800-1299268800@octubre.cat
SUMMARY:Carlos Suárez Sánchez
DESCRIPTION:Divendres 4 de març\, a les 20.00h: Carlos Suárez Sánchez (Vigo).   \n  \n  \n\nCompositor i etnomusicòleg gallec\, ha creat més de 40 obres acústiques i electroacústiques. Ha compost per a dansa\, teatre\, ràdio\, vídeo\, instal·lacions i recitals poètics. A partir de 1989\, comença a fer viatges d’investigació per Veneçuela i el Carib\, principalment per les àrees culturals afroamericana del Carib i indígena de l’Amazones\, on realitza enregistraments i estudis sobre música i paisatges sonors. Ha transcrit més de 36.000 compassos de música tradicional de tot el món. L’any 2003 va retornar a Galícia on va iniciar els seus estudis sobre el paisatge sonor gallec amb el col·lectiu escoitar.org. Ha ofert més de 60 concerts i ha presentat la seua música a diversos països d’Amèrica del Sud i Europa. Les seues conferències i tallers giren entorn de temes com la psicoacústica\, la fonografia i la composició\, l’etnomusicologia i els paisatges sonors.
URL:https://octubre.cat/activitat/carlos-suarez-sanchez/
LOCATION:No definit
CATEGORIES:Vibra
ATTACH;FMTTYPE=image/jpeg:https://octubre.cat/www/wp-content/uploads/2020/07/activitat1411.jpg
END:VEVENT
END:VCALENDAR