BEGIN:VCALENDAR
VERSION:2.0
PRODID:-//Octubre Centre de Cultura Contemporània - ECPv5.1.6//NONSGML v1.0//EN
CALSCALE:GREGORIAN
METHOD:PUBLISH
X-WR-CALNAME:Octubre Centre de Cultura Contemporània
X-ORIGINAL-URL:https://octubre.cat
X-WR-CALDESC:Events for Octubre Centre de Cultura Contemporània
BEGIN:VTIMEZONE
TZID:Europe/Andorra
BEGIN:DAYLIGHT
TZOFFSETFROM:+0100
TZOFFSETTO:+0200
TZNAME:CEST
DTSTART:20070325T010000
END:DAYLIGHT
BEGIN:STANDARD
TZOFFSETFROM:+0200
TZOFFSETTO:+0100
TZNAME:CET
DTSTART:20071028T010000
END:STANDARD
END:VTIMEZONE
BEGIN:VEVENT
DTSTART;TZID=Europe/Andorra:20070123T000000
DTEND;TZID=Europe/Andorra:20070405T000000
DTSTAMP:20260420T204048
CREATED:20200827T174407Z
LAST-MODIFIED:20251207T193210Z
UID:14399-1169510400-1175731200@octubre.cat
SUMMARY:Carles Santos. Visca el piano!
DESCRIPTION:Exposició del 23 de gener al 5 d’abril de 2007. \nUna producció de KRTU / Departament de Cultura i Mitjans de Comunicació de la Generalitat de Catalunya i de la Fundació Joan Miró amb el suport de l’Ajuntament de Vinaròs\, Fundació Caixa de Vinaròs\, SGAE i Acció Cultural del País Valencià per a l’Octubre CCC-\nComissari: Manel Guerrero \nInauguració: dimarts 23 de gener de 2007 a les 20.00h amb Carles Santos\, que interpretarà una selecció de les seues obres. \n  \n \n  \nEclèctic i inclassificable\, original i provocador\, Carles Santos (Vinaròs\, 1940) ha assolit un gran prestigi internacional gràcies a la seva qualitat d’autor musical i teatral\, i pot ser considerat un artista integral. \nL’exposició Carles Santos. Visca el piano! fa un recorregut pel món imaginari de l’artista i per la seva trajectòria\, de més de quaranta anys\, d’intèrpret\, compositor\, director musical i teatral\, autor d’obres cinematogràfiques\, d’espectacles teatrals i creador de potents imatges visuals. \nEl piano és l’instrument essencial de Carles Santos\, però també és l’element més emblemàtic del seu univers imaginari. És per això que el piano serà l’eix conductor d’aquesta exposició i fins i tot el seu piano de cua ocuparà un dels espais. \nCarles Santos farà servir l’exposició com a lloc d’assaig i d’experimentació mentre duri la mostra. Així es farà palesa la defensa de la música i de l’espectacle en directe\, una altra constant de la seva obra. \n  \n \n  \nL’exposició presenta exemples de la seva col·laboració\, en films i espectacles teatrals i musicals\, amb creadors tan destacats com Joan Brossa i Pere Portabella; la seva intervenció\, durant els anys setanta\, com a artista conceptual\, en el Grup de Treball; la seva obra cinematogràfica i de vídeo; una selecció dels elements escenogràfics dels seus espectacles teatrals i musicals dels anys vuitanta\, noranta i primers del nou segle\, així com una mostra rellevant de les imatges visuals que ha creat en els darrers vint anys. \nFinalment\, es podran contemplar\, creats especialment per a l’exposició\, els “Pianos intervinguts”. Pianos de paret que han estat modificats o transformats per esdevenir veritables i sorprenents artefactes artístics. \n 
URL:https://octubre.cat/activitat/carles-santos-visca-el-piano/
LOCATION:Sala d’exposicions
CATEGORIES:Exposicions
ATTACH;FMTTYPE=image/jpeg:https://octubre.cat/www/wp-content/uploads/2020/08/santos-1.jpg
END:VEVENT
END:VCALENDAR