BEGIN:VCALENDAR
VERSION:2.0
PRODID:-//Octubre Centre de Cultura Contemporània - ECPv5.1.6//NONSGML v1.0//EN
CALSCALE:GREGORIAN
METHOD:PUBLISH
X-WR-CALNAME:Octubre Centre de Cultura Contemporània
X-ORIGINAL-URL:https://octubre.cat
X-WR-CALDESC:Events for Octubre Centre de Cultura Contemporània
BEGIN:VTIMEZONE
TZID:Europe/Andorra
BEGIN:DAYLIGHT
TZOFFSETFROM:+0100
TZOFFSETTO:+0200
TZNAME:CEST
DTSTART:20140330T010000
END:DAYLIGHT
BEGIN:STANDARD
TZOFFSETFROM:+0200
TZOFFSETTO:+0100
TZNAME:CET
DTSTART:20141026T010000
END:STANDARD
END:VTIMEZONE
BEGIN:VEVENT
DTSTART;TZID=Europe/Andorra:20140307T200000
DTEND;TZID=Europe/Andorra:20140307T200000
DTSTAMP:20260420T204104
CREATED:20200729T170344Z
LAST-MODIFIED:20200729T184357Z
UID:9713-1394222400-1394222400@octubre.cat
SUMMARY:Carles Carrasco & Àlvar Carpi presenten 'Musicografies'
DESCRIPTION:Divendres 7 de març a les 20.00h. Organitzat per lacasacalba.org dins del cicle musical ‘notes al peu’. Entrada: 5€  \n  \n  \n\n(foto: Puig Carrasco)  El duet instrumental format per Carles Carrasco i Àlvar Carpi presenta l’espectacle Musicografies. Així ho explica el propi Carrasco: “ Dues guitarres parlant per a contar coses. No pot ser. Millor dues guitarres parlant per a descriure coses. Tampoc s’ajusta. Dues guitarres parlant per a transmetre coses. Millor\, però allò de coses no quadra. La idea seria dues guitarres parlant d’emocions. Això és! Dues guitarres intentant congelar moments\, fotografiar-los\, deixar-los en l’aire perquè la imaginació els faça reals”.  Entrada: 5 euros Organitza lacasacalba.org Reserves: escriviu a comandes@lacasacalba.org
URL:https://octubre.cat/activitat/carles-carrasco-alvar-carpi-presenten-musicografies/
CATEGORIES:Notes al peu
ATTACH;FMTTYPE=image/jpeg:https://octubre.cat/www/wp-content/uploads/2020/07/activitat2007.jpg
END:VEVENT
END:VCALENDAR