BEGIN:VCALENDAR
VERSION:2.0
PRODID:-//Octubre Centre de Cultura Contemporània - ECPv5.1.6//NONSGML v1.0//EN
CALSCALE:GREGORIAN
METHOD:PUBLISH
X-WR-CALNAME:Octubre Centre de Cultura Contemporània
X-ORIGINAL-URL:https://octubre.cat
X-WR-CALDESC:Events for Octubre Centre de Cultura Contemporània
BEGIN:VTIMEZONE
TZID:Europe/Andorra
BEGIN:DAYLIGHT
TZOFFSETFROM:+0100
TZOFFSETTO:+0200
TZNAME:CEST
DTSTART:20180325T010000
END:DAYLIGHT
BEGIN:STANDARD
TZOFFSETFROM:+0200
TZOFFSETTO:+0100
TZNAME:CET
DTSTART:20181028T010000
END:STANDARD
END:VTIMEZONE
BEGIN:VEVENT
DTSTART;TZID=Europe/Andorra:20180928T183000
DTEND;TZID=Europe/Andorra:20180928T183000
DTSTAMP:20260423T071617
CREATED:20200729T173107Z
LAST-MODIFIED:20200729T190909Z
UID:11249-1538159400-1538159400@octubre.cat
SUMMARY:"Carcaixent en temps de guerra"\, de Sergi Moyano
DESCRIPTION:Divendres 28 de setembre a les 18.30h. En la presentació intervindran el director acompanyat per Anna Oliver\, Francesc Picó i Ferran Puchades.	 \n  \n  \n\n 	 En la presentació intervindran: –Sergi Moyano Hurtado\, estudiant\, director i realitzador del documental –Anna Oliver Borràs\, advocada\, membre de la junta directiva d’ACPV i autora del llibre Entre el silenci i l’oblit. Paco Cucarella\, el darrer alcalde revolucionari de Carcaixent —Francesc Picó\, director\, guionista i tresorer d’ACICOM. –Ferran Puchades Vila\, Secretari Autonòmic de Justícia\, Administració Pública\, Reformes Democràtiques i Llibertats Públiques  Durant el primer terç del segle passat\, una sèrie de canvis polítics i socials culminen en la proclamació de la II República. Carcaixent és en aquell moment una ciutat capdavantera en la producció de la taronja\, al voltant de la qual conflueix una societat dinàmica i moderna. Aquest documental recupera imatges d’arxiu inèdites\, la veu dels protagonistes i entrevista historiadors i investigadors locals\, recolzat en recreacions històriques. Presenta la realitat local durant el govern republicà i la seua desfeta com a conseqüència del colp d’Estat franquista. En definitiva\, ofereix un repàs didàctic a una de les etapes més apassionants de la història del nostre país.  Direcció i realització:  Sergi Moyano (2018) Guió:  María José Sigalat Imatge: Vicent Pons / Carles Benito  / Carlos Langa / Ricard Salom Narració: Rosana Pastor Música Original: Giannino Clemente / TresArcs Disseny gràfic: Pau Àlvarez Assessorament històric: José Manuel Fernández Un projecte promogut per: IES Arabista Ribera Amb la participació de: Àgora Grup de Teatre / Lira i Casino Carcaixentí / Casal Jaume I – Grup Arrels Amb el suport de: AMPA – IES Arabista Ribera / Edicions 96 / Ajuntament de Carcaixent  Web oficial
URL:https://octubre.cat/activitat/carcaixent-en-temps-de-guerra-de-sergi-moyano/
LOCATION:Sala d’actes
CATEGORIES:Cinema
ATTACH;FMTTYPE=image/jpeg:https://octubre.cat/www/wp-content/uploads/2020/07/activitat3088.jpg
END:VEVENT
END:VCALENDAR