BEGIN:VCALENDAR
VERSION:2.0
PRODID:-//Octubre Centre de Cultura Contemporània - ECPv5.1.6//NONSGML v1.0//EN
CALSCALE:GREGORIAN
METHOD:PUBLISH
X-WR-CALNAME:Octubre Centre de Cultura Contemporània
X-ORIGINAL-URL:https://octubre.cat
X-WR-CALDESC:Events for Octubre Centre de Cultura Contemporània
BEGIN:VTIMEZONE
TZID:Europe/Andorra
BEGIN:DAYLIGHT
TZOFFSETFROM:+0100
TZOFFSETTO:+0200
TZNAME:CEST
DTSTART:20130331T010000
END:DAYLIGHT
BEGIN:STANDARD
TZOFFSETFROM:+0200
TZOFFSETTO:+0100
TZNAME:CET
DTSTART:20131027T010000
END:STANDARD
END:VTIMEZONE
BEGIN:VEVENT
DTSTART;TZID=Europe/Andorra:20130625T190000
DTEND;TZID=Europe/Andorra:20130625T190000
DTSTAMP:20260424T014752
CREATED:20200729T170123Z
LAST-MODIFIED:20200729T184152Z
UID:9578-1372186800-1372186800@octubre.cat
SUMMARY:Cap a un nou model energètic
DESCRIPTION:Dimarts 25 de juny a les 19.00h: Presentació de la cooperativa “Som energia” i debat “Energia 100% verda a casa? Cap a un nou model energètic”  \n  \n  \n\n Debat col·loqui “Energia 100% verda a casa? Cap a un nou model energètic”  Presentació de la cooperativa Som Energia  Organitza: Compromís per València Presenta: Joan Ribó  Entrada lliure
URL:https://octubre.cat/activitat/cap-a-un-nou-model-energetic/
CATEGORIES:Conferències i congressos
ATTACH;FMTTYPE=image/jpeg:https://octubre.cat/www/wp-content/uploads/2020/07/activitat1836.jpg
END:VEVENT
END:VCALENDAR