BEGIN:VCALENDAR
VERSION:2.0
PRODID:-//Octubre Centre de Cultura Contemporània - ECPv5.1.6//NONSGML v1.0//EN
CALSCALE:GREGORIAN
METHOD:PUBLISH
X-WR-CALNAME:Octubre Centre de Cultura Contemporània
X-ORIGINAL-URL:https://octubre.cat
X-WR-CALDESC:Events for Octubre Centre de Cultura Contemporània
BEGIN:VTIMEZONE
TZID:Europe/Andorra
BEGIN:DAYLIGHT
TZOFFSETFROM:+0100
TZOFFSETTO:+0200
TZNAME:CEST
DTSTART:20100328T010000
END:DAYLIGHT
BEGIN:STANDARD
TZOFFSETFROM:+0200
TZOFFSETTO:+0100
TZNAME:CET
DTSTART:20101031T010000
END:STANDARD
END:VTIMEZONE
BEGIN:VEVENT
DTSTART;TZID=Europe/Andorra:20100129T200000
DTEND;TZID=Europe/Andorra:20100129T200000
DTSTAMP:20260421T012559
CREATED:20200729T164659Z
LAST-MODIFIED:20200729T182737Z
UID:8698-1264795200-1264795200@octubre.cat
SUMMARY:Cançons republicanes
DESCRIPTION:Divendres 30 de gener\, a les 20.00h: “Cançons republicanes”\, poemes i cançons amb Biel Majoral. Dins de les activitats paral·leles a l’exposició “La Derrota”.   \n  \n  \n\nLa proclamació de la República va remoure l’esperit revolucionari i el desig de llibertat de tot un col·lectiu. Un bon grapat de joves poetes exalten aquest nou estat social i sense embuts canten a la República. És ací on comencen les “Cançons republicanes” de Pere Capellà i la proclamació\, en forma de poema\, de la Gran Catalunya. El muntatge\, després d’arrancar amb aquests cants d’exaltació i de confiança en el futur\, avança cap a l’època de la guerra\, l’exili\, la repressió\, on els poetes mostren el seu compromís amb la dignitat\, la coherència i l’honestedat. Cançons de lluita i d’esperança\, que tracten de fer més suportable la resistència fins que arriba la mort del dictador\, que és on conclourà també aquesta representació.   Amb poemes de: Biel Majoral\, Vicent Andrés Estellés\, Pere Capellà\, Agustí Bartra\, Joan Oliver\, Miquel Forteza\, Blai Bonet\, Miquel Ferrà\, Josep Palau i Fabre i Joan Brossa.  Cançons de:  Biel Majoral\, Ovidi Montllor i Miguel Poveda.   Formació: Biel Majoral\, Antònia Font\, Antoni Artigues\, Delfí Mulet i Jordi Majoral.   Aquest concert s’inscriu en el marc de les activitas paral·leles a l’exposició La Derrota\, que es desenvoluparan al llarg del mes de febrer.
URL:https://octubre.cat/activitat/cancons-republicanes/
LOCATION:No definit
CATEGORIES:Cicle de música pop
ATTACH;FMTTYPE=image/jpeg:https://octubre.cat/www/wp-content/uploads/2020/07/activitat1042.jpg
END:VEVENT
END:VCALENDAR