BEGIN:VCALENDAR
VERSION:2.0
PRODID:-//Octubre Centre de Cultura Contemporània - ECPv5.1.6//NONSGML v1.0//EN
CALSCALE:GREGORIAN
METHOD:PUBLISH
X-WR-CALNAME:Octubre Centre de Cultura Contemporània
X-ORIGINAL-URL:https://octubre.cat
X-WR-CALDESC:Events for Octubre Centre de Cultura Contemporània
BEGIN:VTIMEZONE
TZID:Europe/Andorra
BEGIN:DAYLIGHT
TZOFFSETFROM:+0100
TZOFFSETTO:+0200
TZNAME:CEST
DTSTART:20100328T010000
END:DAYLIGHT
BEGIN:STANDARD
TZOFFSETFROM:+0200
TZOFFSETTO:+0100
TZNAME:CET
DTSTART:20101031T010000
END:STANDARD
END:VTIMEZONE
BEGIN:VEVENT
DTSTART;TZID=Europe/Andorra:20100622T193000
DTEND;TZID=Europe/Andorra:20100622T193000
DTSTAMP:20260420T175403
CREATED:20200729T164952Z
LAST-MODIFIED:20200730T042522Z
UID:8872-1277235000-1277235000@octubre.cat
SUMMARY:Cafè per la llengua
DESCRIPTION:Dimarts 22 de juny\, a les 19.30h: Cafè per la llengua amb la intervenció del president de l’Obra Cultural Balear\, Jaume Mateu\, i l’actuació dels glosadors Mateu Matas “Xurí” i Antoni Llull.  \n  \n  \n\nArreu del món\, a totes les cultures\, prendre un cafè és signe de conversa amistosa i d’intercanvi civilitzat d’idees. Per això us convidam a prendre un cafè per parlar\, sense prejudicis\, de les qüestions que us preocupen entorn de la llengua\, perquè és important que els ciutadans participin i hi diguin la seva. Hi intervindrà el president de l’Obra Cultural Balear\, Jaume Mateu\, i a més\, hi haurà una actuació dels glosadors (cant improvisat) Mateu Matas “Xurí” i Antoni Llull.  El Cafè per la Llengua és una gran campanya de participació ciutadana a favor de la llengua catalana organitzada per l’Obra Cultural Balear. L’entitat ha fet centenars de reunions de petit o gran format per explicar a persones de diferents sectors socials la seva tasca actual i per sensibilitzar els participants a favor de la llengua pròpia. Els participants conversen obertament sobre la situació lingüística. L’acte pretén canviar les seves actituds envers el català i el procés de normalització lingüística. La campanya ha tengut el suport de Rafel Nadal\, Joan Laporta\, Rudy Fernández\, Maria del Mar Bonet i un llarg etcètera de personalitats de les Illes Balears i del conjunt dels Països Catalans. Se n’han fet actes a Mallorca\, Menorca\, Eivissa\, Formentera\, Barcelona\, Girona i Perpinyà. Per primera vegada\, la iniciativa arriba a València.
URL:https://octubre.cat/activitat/cafe-per-la-llengua/
LOCATION:No definit
CATEGORIES:Literatura
ATTACH;FMTTYPE=image/gif:https://octubre.cat/www/wp-content/uploads/2020/07/activitat1222.gif
END:VEVENT
END:VCALENDAR