BEGIN:VCALENDAR
VERSION:2.0
PRODID:-//Octubre Centre de Cultura Contemporània - ECPv5.1.6//NONSGML v1.0//EN
CALSCALE:GREGORIAN
METHOD:PUBLISH
X-WR-CALNAME:Octubre Centre de Cultura Contemporània
X-ORIGINAL-URL:https://octubre.cat
X-WR-CALDESC:Events for Octubre Centre de Cultura Contemporània
BEGIN:VTIMEZONE
TZID:Europe/Andorra
BEGIN:DAYLIGHT
TZOFFSETFROM:+0100
TZOFFSETTO:+0200
TZNAME:CEST
DTSTART:20220327T010000
END:DAYLIGHT
BEGIN:STANDARD
TZOFFSETFROM:+0200
TZOFFSETTO:+0100
TZNAME:CET
DTSTART:20221030T010000
END:STANDARD
END:VTIMEZONE
BEGIN:VEVENT
DTSTART;TZID=Europe/Andorra:20221210T170000
DTEND;TZID=Europe/Andorra:20221210T230000
DTSTAMP:20260420T160129
CREATED:20221201T101014Z
LAST-MODIFIED:20250709T104403Z
UID:19158-1670691600-1670713200@octubre.cat
SUMMARY:CABÀSS - Electronic Evening
DESCRIPTION:XIXA (Abstract Places Audio / BCN)\nPumukovic\nDJ de Continuidad \nCABÀSS presenta una vesprada electrònica inèdita amb connexió Barcelona – València\, en un dels espais més singulars de València: l’àtic de l’Octubre Centre de Cultura Contemporània. \nCom a convidat especial comptarem amb l’esmunyedís productor barceloní Sergi Morell (XIXA)\, cofundador del segell Abstract Places Àudio especialitzat en techno i IDM d’atmosferes complexes. XIXA porta produint des del 2005\, interessant-se als seus inicis pel hardware analògic dels 80. El 2014\, el seu treball en estudi fa un gir de 180 graus en descobrir el sintetitzador modular. Això fa que se centre més en la música techno i s’interesse per les textures complexes i la percussió.\nXIXA ha punxat en algunes de les sales més respectades de Barcelona com Moog\, LAUT\, Macarena Club o La Terrazza. \nAls plats se sumaran els DJ habituals dels esdeveniments organitzats per Hepta Club. D’una banda Pumukovic\, amant de la contundència techno amb tocs progressive / trance i les melodies subtils\, que es mou com peix a l’aigua buscant les profunditats des de les quals fer gaudir a la pista. D’altra banda\, DJ de Continuidad\, membre del mític col·lectiu friki Alababarada i vinculat durant molts anys a l’escena drum’n bass de València\, planteja sessions eclèctiques que flueixen entre l’italodisco\, el discofunk\, l’indie-dance o el house. \n 
URL:https://octubre.cat/activitat/cabass-electronic-evening/
LOCATION:Àtic
CATEGORIES:Cabàss
ATTACH;FMTTYPE=image/jpeg:https://octubre.cat/www/wp-content/uploads/2022/12/terrat-octubre.jpg
END:VEVENT
END:VCALENDAR