BEGIN:VCALENDAR
VERSION:2.0
PRODID:-//Octubre Centre de Cultura Contemporània - ECPv5.1.6//NONSGML v1.0//EN
CALSCALE:GREGORIAN
METHOD:PUBLISH
X-WR-CALNAME:Octubre Centre de Cultura Contemporània
X-ORIGINAL-URL:https://octubre.cat
X-WR-CALDESC:Events for Octubre Centre de Cultura Contemporània
BEGIN:VTIMEZONE
TZID:Europe/Andorra
BEGIN:DAYLIGHT
TZOFFSETFROM:+0100
TZOFFSETTO:+0200
TZNAME:CEST
DTSTART:20100328T010000
END:DAYLIGHT
BEGIN:STANDARD
TZOFFSETFROM:+0200
TZOFFSETTO:+0100
TZNAME:CET
DTSTART:20101031T010000
END:STANDARD
END:VTIMEZONE
BEGIN:VEVENT
DTSTART;TZID=Europe/Andorra:20100212T200000
DTEND;TZID=Europe/Andorra:20100212T200000
DTSTAMP:20260421T132044
CREATED:20200729T164719Z
LAST-MODIFIED:20200729T182755Z
UID:8718-1266004800-1266004800@octubre.cat
SUMMARY:Caballo Trípode
DESCRIPTION:Divendres 12 de febrer\, a les 20.00h: Caballo Trípode (València).   \n  \n  \n\nAquest grup de Gandia\, format per dos músics de la banda Le Jonathan Reilly (José María i Andrés Gomar) amb Jordi Sapena\, publicaren el seu primer treball Horror Vacui (Holy Cobra Society / Tick Tack Totally)\, el passat 2009. En la seua música es detecta la influència de bandes com Violent Femmes o The Feelies. El passat desembre actuaren al Primavera Club 09 al costat de grups com The Soundtrack of Out Life o The Black Heart Procession.
URL:https://octubre.cat/activitat/caballo-tripode/
LOCATION:No definit
CATEGORIES:Cicle de música pop
ATTACH;FMTTYPE=image/jpeg:https://octubre.cat/www/wp-content/uploads/2020/07/activitat1062.jpg
END:VEVENT
END:VCALENDAR