BEGIN:VCALENDAR
VERSION:2.0
PRODID:-//Octubre Centre de Cultura Contemporània - ECPv5.1.6//NONSGML v1.0//EN
CALSCALE:GREGORIAN
METHOD:PUBLISH
X-WR-CALNAME:Octubre Centre de Cultura Contemporània
X-ORIGINAL-URL:https://octubre.cat
X-WR-CALDESC:Events for Octubre Centre de Cultura Contemporània
BEGIN:VTIMEZONE
TZID:Europe/Andorra
BEGIN:DAYLIGHT
TZOFFSETFROM:+0100
TZOFFSETTO:+0200
TZNAME:CEST
DTSTART:20090329T010000
END:DAYLIGHT
BEGIN:STANDARD
TZOFFSETFROM:+0200
TZOFFSETTO:+0100
TZNAME:CET
DTSTART:20091025T010000
END:STANDARD
END:VTIMEZONE
BEGIN:VEVENT
DTSTART;TZID=Europe/Andorra:20091001T230000
DTEND;TZID=Europe/Andorra:20091001T230000
DTSTAMP:20260420T203913
CREATED:20200729T182547Z
LAST-MODIFIED:20200729T182547Z
UID:12897-1254438000-1254438000@octubre.cat
SUMMARY:Bustamante & Ciudadano
DESCRIPTION:Dijous 1 d’octubre\, a les 23.00h: “Intercanvis”. Bustamante i Ciudadano (València).   \n  \n  \n\nJulio Bustamante és un dels solistes més prestigiosos i versàtils que ha donat el pop valencià. Discos com Cambrers (1982) li valgueren qualificatius com el de creador del pop mediterrani. El seu estil s’ha convertit en un referent clàssic\, tant de la música valenciana com del pop estatal de les últimes dècades.   Ciudadano és un grup de rock independent que ha investigat tant la turbulència elèctrica com l’intimisme i que ha donat a llum discos tan embriagadors com Libros de viajes (2006). D’ençà un parell d’anys\, Bustamante i diversos membres de Ciudadano crearen Maderita\, un projecte que demostra que la música sempre és capaç de trobar punts de connexió més enllà dels estils i de les generacions.   Totes dues parts s’alien una vegada més per a reinterpretar mútuament els seus respectius universos en aquest concert exclusiu per a “Intercanvis”.
URL:https://octubre.cat/activitat/bustamante-ciudadano/
LOCATION:No definit
CATEGORIES:Cicle de música pop
ATTACH;FMTTYPE=image/jpeg:https://octubre.cat/www/wp-content/uploads/2020/07/activitat930.jpg
END:VEVENT
END:VCALENDAR