BEGIN:VCALENDAR
VERSION:2.0
PRODID:-//Octubre Centre de Cultura Contemporània - ECPv5.1.6//NONSGML v1.0//EN
CALSCALE:GREGORIAN
METHOD:PUBLISH
X-WR-CALNAME:Octubre Centre de Cultura Contemporània
X-ORIGINAL-URL:https://octubre.cat
X-WR-CALDESC:Events for Octubre Centre de Cultura Contemporània
BEGIN:VTIMEZONE
TZID:Europe/Andorra
BEGIN:DAYLIGHT
TZOFFSETFROM:+0100
TZOFFSETTO:+0200
TZNAME:CEST
DTSTART:20080330T010000
END:DAYLIGHT
BEGIN:STANDARD
TZOFFSETFROM:+0200
TZOFFSETTO:+0100
TZNAME:CET
DTSTART:20081026T010000
END:STANDARD
END:VTIMEZONE
BEGIN:VEVENT
DTSTART;TZID=Europe/Andorra:20080412T190000
DTEND;TZID=Europe/Andorra:20080412T190000
DTSTAMP:20260420T233042
CREATED:20200729T181823Z
LAST-MODIFIED:20200730T035710Z
UID:12541-1208026800-1208026800@octubre.cat
SUMMARY:Bulos y Tanguerías (Sevilla) / Eva Pérez (València)
DESCRIPTION:Bulos y Tanguerías és el resultat de la col·laboració entre Raúl Cantizano i Santiago Barber\, assumint conjuntament la direcció musical i artística. Raúl Cantizano és guitarrista flamenc emparentat al seu torn amb altres comportaments artístics; i Santiago Barber és artista\, aficionat flamenc i activista cultural.  Eva Pérez (Campanar\, València\, 1980) ha participat en trobades com Portes Obertes al Cabanyal\, diverses accions col·lectives a València i festivals com Nits d´Aielo i Art o Influxus\, al Museo Vostell (Malpartida de Càceres). Membre actiu de l’Associació Cultural Sinberifora\, anteriorment ha estat membre de l’Associació Cultural Menosuno de Madrid\, encara que amb una finalitat ben diferent: no es tractava tant de treballar en la gestió col·lectiva\, sinó mes bé de crear un sac o una base de dades eclèctica d’artistes on poder estirar d’un fil i muntar exposicions.
URL:https://octubre.cat/activitat/bulos-y-tanguerias-sevilla-eva-perez-valencia/
LOCATION:No definit
CATEGORIES:Arrt d'Accció
ATTACH;FMTTYPE=image/jpeg:https://octubre.cat/www/wp-content/uploads/2020/07/arrtacccio1.jpg
END:VEVENT
END:VCALENDAR