BEGIN:VCALENDAR
VERSION:2.0
PRODID:-//Octubre Centre de Cultura Contemporània - ECPv5.1.6//NONSGML v1.0//EN
CALSCALE:GREGORIAN
METHOD:PUBLISH
X-WR-CALNAME:Octubre Centre de Cultura Contemporània
X-ORIGINAL-URL:https://octubre.cat
X-WR-CALDESC:Events for Octubre Centre de Cultura Contemporània
BEGIN:VTIMEZONE
TZID:Europe/Andorra
BEGIN:DAYLIGHT
TZOFFSETFROM:+0100
TZOFFSETTO:+0200
TZNAME:CEST
DTSTART:20140330T010000
END:DAYLIGHT
BEGIN:STANDARD
TZOFFSETFROM:+0200
TZOFFSETTO:+0100
TZNAME:CET
DTSTART:20141026T010000
END:STANDARD
END:VTIMEZONE
BEGIN:VEVENT
DTSTART;TZID=Europe/Andorra:20141211T200000
DTEND;TZID=Europe/Andorra:20141211T200000
DTSTAMP:20260421T000704
CREATED:20200729T170658Z
LAST-MODIFIED:20200730T041232Z
UID:9915-1418328000-1418328000@octubre.cat
SUMMARY:Brossa Quartet i Judit Neddermann
DESCRIPTION:Dijous 11 de desembre a les 20.00h. Concert inclòs en el cicle Barcelona Escenari. Presenten “Viatge d’hivern”\, de Franz Shubert  \n  \n  \n\n Presenten “Viatge d’hivern”\, de Franz Schubert  El cicle de lierder “Viatge d’hivern” (Winterreise) fou escrit per Franz Schubert en l’últim any de la seva vida (1828) i representa per bellesa i depuració tècnica una de les grans obres del romanticisme i de la música clàssica. El Brossa Quartet de Corda continua amb la seva voluntat de trencar les fronteres entre estils i s’aventura de nou en un projecte molt singular: convida a la cantant Judit Nedermann a revisar aquestes melodies d’una nova manera. Sense abandonar l’intimisme de la música de cambra\, la proposta consisteix en generar un nou arranjament i sobretot una nova manera d’interpretar aquesta obra mestra del bel canto. Convertir aquests lieder en cançons pop íntimes per a quartet de corda i veu i apropar-los als canons de bellesa actuals a través de guinyades d’ull al pop\, al folk o al jazz\, sempre a través d’un llenguatge propi. Es tracta de regalar-los a una veu emergent i bellíssima com la de Judit Nedermann per fer lluir aquest referent de la música clàssica en un altre format\, infectant-los de nous climes i nous colors. Les melodies de “Viatge d’hivern”\, escrites sobre poemes de Wilhelm Müller que reflexionen sobre els diversos sentiments ocasionats per l’amor no correspost\, ressonaran amb timbres de modernitat sense abandonar el classicisme de la formació de quartet de corda\, aprofundint en l’expressivitat i la bellesa d’aquesta joia de la literatura musical europea. Cantant la magnífica traducció al català de Miquel Desclot en ocasió del projecte\, els diversos sentiments de desamor de “Viatge d’hivern” brillaran amb vestits i cor moderns.  Brossa Quartet de Corda\, interpretació i arranjaments -Aleix Puig i Pere Bartolomé\, violins -Imma Lluch\, viola -Quico Pugès\, violoncel Judit Nedermann\, cantant Miquel Desclot\, traducció   Preu: 6 euros (socis 4 euros)  Reserva d’entrades al tel. 963157799 o al correu info@octubre.cat (indiqueu nom i cognoms i telèfon de contacte)  Organitza: Octubre Centre de Cultura Contemporània de València Programació artística: Francesc Burgos (lacasacalba.org) Patrocina: Institut de Cultura de Barcelona
URL:https://octubre.cat/activitat/brossa-quartet-i-judit-neddermann/
CATEGORIES:Barcelona Escenari 2014 (música)
ATTACH;FMTTYPE=image/jpeg:https://octubre.cat/www/wp-content/uploads/2020/07/activitat2156.jpg
END:VEVENT
END:VCALENDAR