BEGIN:VCALENDAR
VERSION:2.0
PRODID:-//Octubre Centre de Cultura Contemporània - ECPv5.1.6//NONSGML v1.0//EN
CALSCALE:GREGORIAN
METHOD:PUBLISH
X-WR-CALNAME:Octubre Centre de Cultura Contemporània
X-ORIGINAL-URL:https://octubre.cat
X-WR-CALDESC:Events for Octubre Centre de Cultura Contemporània
BEGIN:VTIMEZONE
TZID:Europe/Andorra
BEGIN:DAYLIGHT
TZOFFSETFROM:+0100
TZOFFSETTO:+0200
TZNAME:CEST
DTSTART:20090329T010000
END:DAYLIGHT
BEGIN:STANDARD
TZOFFSETFROM:+0200
TZOFFSETTO:+0100
TZNAME:CET
DTSTART:20091025T010000
END:STANDARD
END:VTIMEZONE
BEGIN:VEVENT
DTSTART;TZID=Europe/Andorra:20090115T210000
DTEND;TZID=Europe/Andorra:20090115T210000
DTSTAMP:20260420T190005
CREATED:20200730T035931Z
LAST-MODIFIED:20200730T035931Z
UID:14066-1232053200-1232053200@octubre.cat
SUMMARY:Blue Melon Project
DESCRIPTION:Dijous 15 de gener a les 21.00h: Blue Melon Project. Aquesta banda valenciana inicia el cicle de blues que tindrà lloc els dijous durant gener i febrer  \n  \n  \n\nFormada el 2006\, Blue Melon Project són una de les grans revelacions dins del panorama del blues valencià. La seua conctelera sonora abasta un ample ventall de sons (R&B\, soul i blues) en el qual es reflexa l’essència dels grans instrumentals de segells clàssics com Chess\, Stax\, Atlantic i Blue Note. Integrat per músics habituals de l’escena com Harmonica George (harmònica)\, Ricardo Gener (guitarra)\, Òscar “Dr. Shuffle” Alcaraz (bateria) i Little Marcello (hammond)\, la seua carrera els ha portat a organitzar concerts a nombroses sales. Actualment estan preparant el que serà el seu primer disc per al 2009. Els seus membres\, a més\, han col·laborat amb artistes com ara Tonky de la Peña\, Paul Orta\, Keith Dunn\, Sax Gordon\, Gene Taylor\, Danny Boy\, etc.
URL:https://octubre.cat/activitat/blue-melon-project/
LOCATION:No definit
CATEGORIES:Cicle de música pop
ATTACH;FMTTYPE=image/jpeg:https://octubre.cat/www/wp-content/uploads/2020/07/activitat747.jpg
END:VEVENT
END:VCALENDAR