BEGIN:VCALENDAR
VERSION:2.0
PRODID:-//Octubre Centre de Cultura Contemporània - ECPv5.1.6//NONSGML v1.0//EN
CALSCALE:GREGORIAN
METHOD:PUBLISH
X-WR-CALNAME:Octubre Centre de Cultura Contemporània
X-ORIGINAL-URL:https://octubre.cat
X-WR-CALDESC:Events for Octubre Centre de Cultura Contemporània
BEGIN:VTIMEZONE
TZID:Europe/Andorra
BEGIN:DAYLIGHT
TZOFFSETFROM:+0100
TZOFFSETTO:+0200
TZNAME:CEST
DTSTART:20080330T010000
END:DAYLIGHT
BEGIN:STANDARD
TZOFFSETFROM:+0200
TZOFFSETTO:+0100
TZNAME:CET
DTSTART:20081026T010000
END:STANDARD
END:VTIMEZONE
BEGIN:VEVENT
DTSTART;TZID=Europe/Andorra:20080605T230000
DTEND;TZID=Europe/Andorra:20080605T230000
DTSTAMP:20260421T153523
CREATED:20200729T181913Z
LAST-MODIFIED:20200730T035750Z
UID:12593-1212706800-1212706800@octubre.cat
SUMMARY:Björn Norestig + Tupelo Honeys (Suècia)
DESCRIPTION:Dijous 5\, 23.00h Björn Norestig + Tupelo Honeys (Suècia)  \n  \n  \n\nAquest concert se celebrarà\, excepcionalment\, a les 23h  Gira conjunta de dues de les formacions més representatives de l’escena indie-pop sueca més recent. Norestig és un jove eclèctic amb influències que van de The Band a Rufus Wainwright\, mentre que els bessons de Tupelo Honeys tenen com a millor referència Belle & Sebastian.  (Amb la col·laboració de Tranquilo Música)
URL:https://octubre.cat/activitat/bjorn-norestig-tupelo-honeys-suecia/
LOCATION:No definit
CATEGORIES:Cicle de música pop
ATTACH;FMTTYPE=image/jpeg:https://octubre.cat/www/wp-content/uploads/2020/07/activitat611.jpg
END:VEVENT
END:VCALENDAR