BEGIN:VCALENDAR
VERSION:2.0
PRODID:-//Octubre Centre de Cultura Contemporània - ECPv5.1.6//NONSGML v1.0//EN
CALSCALE:GREGORIAN
METHOD:PUBLISH
X-WR-CALNAME:Octubre Centre de Cultura Contemporània
X-ORIGINAL-URL:https://octubre.cat
X-WR-CALDESC:Events for Octubre Centre de Cultura Contemporània
BEGIN:VTIMEZONE
TZID:Europe/Andorra
BEGIN:DAYLIGHT
TZOFFSETFROM:+0100
TZOFFSETTO:+0200
TZNAME:CEST
DTSTART:20100328T010000
END:DAYLIGHT
BEGIN:STANDARD
TZOFFSETFROM:+0200
TZOFFSETTO:+0100
TZNAME:CET
DTSTART:20101031T010000
END:STANDARD
END:VTIMEZONE
BEGIN:VEVENT
DTSTART;TZID=Europe/Andorra:20100310T193000
DTEND;TZID=Europe/Andorra:20100310T193000
DTSTAMP:20260420T202052
CREATED:20200729T164753Z
LAST-MODIFIED:20200729T182826Z
UID:8754-1268249400-1268249400@octubre.cat
SUMMARY:Biodiversitat i canvi global
DESCRIPTION:Dimecres 10 de març\, a les 19.30h: Cicle Biodiversitat. “Biodiversitat i canvi global”\, conferència a càrrec de Xavier Bellés (CSIC-UPF).   \n  \n  \n\nCicle Biodiversitat. Què és i com l’afecta el canvi global?  Biodiversitat i canvi global Diversos factors d’origen antropogènic\, en particular la destrucció d’hàbitats i la sobreexplotació\, estan provocant ritmes d’extinció d’espècies anormalment alts. Més enllà d’aquests factors locals\, cal considerar també l’efecte del canvi climàtic\, que amenaça reduir la biodiversitat a escala global\, especialment la d’aquelles espècies microendèmiques que tenen una capacitat migratòria reduïda.  Conferència a càrrec de Xavier Bellés\, entomòleg\, professor d’investigació del CSIC\, director de l’Institut de Biologia Evolutiva (CSIC-UPF) i membre del Laboratorio Internacional de Cambio Global (CSIC-PUC). La seua dedicació a l’estudi del món dels insectes l’ha portat a interessar-se per molts aspectes diferents\, des de la recerca altament especialitzada en evolució de la metamorfosi\, fins a temes de divulgació de la ciència i d’història de la zoologia.  Organitzat per Acció Cultural del País Valencià amb la col·laboració de l’Institut d’Estudis Catalans\, la Càtedra de Divulgació de la Ciència de la Universitat de València i el CSIC.
URL:https://octubre.cat/activitat/biodiversitat-i-canvi-global/
LOCATION:No definit
CATEGORIES:Espai Ciència
ATTACH;FMTTYPE=image/png:https://octubre.cat/www/wp-content/uploads/2020/07/activitat1099.png
END:VEVENT
END:VCALENDAR