BEGIN:VCALENDAR
VERSION:2.0
PRODID:-//Octubre Centre de Cultura Contemporània - ECPv5.1.6//NONSGML v1.0//EN
CALSCALE:GREGORIAN
METHOD:PUBLISH
X-WR-CALNAME:Octubre Centre de Cultura Contemporània
X-ORIGINAL-URL:https://octubre.cat
X-WR-CALDESC:Events for Octubre Centre de Cultura Contemporània
BEGIN:VTIMEZONE
TZID:Europe/Andorra
BEGIN:DAYLIGHT
TZOFFSETFROM:+0100
TZOFFSETTO:+0200
TZNAME:CEST
DTSTART:20190331T010000
END:DAYLIGHT
BEGIN:STANDARD
TZOFFSETFROM:+0200
TZOFFSETTO:+0100
TZNAME:CET
DTSTART:20191027T010000
END:STANDARD
END:VTIMEZONE
BEGIN:VEVENT
DTSTART;TZID=Europe/Andorra:20190304T190000
DTEND;TZID=Europe/Andorra:20190304T190000
DTSTAMP:20260423T054357
CREATED:20200729T173304Z
LAST-MODIFIED:20200729T191046Z
UID:11370-1551726000-1551726000@octubre.cat
SUMMARY:"Bingo\, o rei das manhãs"\, de Daniel Rezende
DESCRIPTION:Dilluns 4 de març a les 19.00h. Projecció inclosa en Novocine – Mostra de cinema brasiler. Entrada lliure.	 \n  \n  \n\n 	 Augusto\, un artista que sempre va somniar de trobar-se sota els focus\, té finalment la seua gran oportunitat al convertir-se en Bingo\, el pallasso presentador d’un programa infantil de televisió que es converteix en un èxit absolut. Una clàusula en el contracte\, però\, no permet revelar qui està darrera de la màscara\, fet que provoca en Augusto la frustració de ser l’home anònim més famós del Brasil. Aquesta és la història d’una persona\, plena d’excessos\, que busca el reconeixement del seu art.  Director: Daniel Rezende (2017) Guió: Luiz Bolognesi Repartiment: Vladimir Brichta\, Emanuelle Araújo\, Leandra Leal\, Ana Lúcia Torre. Producció: Gullame Films i Empyrean Durada: 113’  Pel·lícula candidata del Brasil als Oscar 2017 Pel·lícula candidata del Brasil als Goya 2017 Primer premi al Festival de Cinema Brasiler de París Premi del Públic al Festival de Granada Gran Premi del Cinema Brasiler 2018
URL:https://octubre.cat/activitat/bingo-o-rei-das-manhas-de-daniel-rezende/
LOCATION:Sala d’actes
CATEGORIES:Cinema
ATTACH;FMTTYPE=image/jpeg:https://octubre.cat/www/wp-content/uploads/2020/07/activitat3215.jpg
END:VEVENT
END:VCALENDAR