BEGIN:VCALENDAR
VERSION:2.0
PRODID:-//Octubre Centre de Cultura Contemporània - ECPv5.1.6//NONSGML v1.0//EN
CALSCALE:GREGORIAN
METHOD:PUBLISH
X-WR-CALNAME:Octubre Centre de Cultura Contemporània
X-ORIGINAL-URL:https://octubre.cat
X-WR-CALDESC:Events for Octubre Centre de Cultura Contemporània
BEGIN:VTIMEZONE
TZID:Europe/Andorra
BEGIN:DAYLIGHT
TZOFFSETFROM:+0100
TZOFFSETTO:+0200
TZNAME:CEST
DTSTART:20090329T010000
END:DAYLIGHT
BEGIN:STANDARD
TZOFFSETFROM:+0200
TZOFFSETTO:+0100
TZNAME:CET
DTSTART:20091025T010000
END:STANDARD
END:VTIMEZONE
BEGIN:VEVENT
DTSTART;TZID=Europe/Andorra:20090512T193000
DTEND;TZID=Europe/Andorra:20090512T193000
DTSTAMP:20260420T213411
CREATED:20200729T182425Z
LAST-MODIFIED:20200729T182425Z
UID:12820-1242156600-1242156600@octubre.cat
SUMMARY:Berlín
DESCRIPTION:Dimarts 12 de maig\, a les 19.30h: “Berlín. Política d’habitatge\, rehabilitació i habitatge públic”\, a càrrec de Hans Stimman\, arquitecte\, catedràtic d’Urbanisme de la Universitat Tècnica de Berlín i director d’ordenació urbana de la capital alemanya.   \n  \n  \n\nConferència “Berlín. Política d’habitatge\, rehabilitació i habitatge públic”\, a càrrec de Hans Stimman.   Hans Stimmann és doctor arquitecte i catedràtic d’Urbanisme de la Universitat Tècnica de Berlín\, així com director d’ordenació urbana de la capital alemanya.   Contrapunt a càrrec de l’arquitecte urbanista valencià Carles Dolç.  Modera Fernando Gaja i Díaz\, Doctor Arquitecte i professor titular d’Urbanisme a la Universitat Politècnica de València.
URL:https://octubre.cat/activitat/berlin/
LOCATION:No definit
CATEGORIES:Institut del Territori
ATTACH;FMTTYPE=image/jpeg:https://octubre.cat/www/wp-content/uploads/2020/07/activitat848.jpg
END:VEVENT
END:VCALENDAR