BEGIN:VCALENDAR
VERSION:2.0
PRODID:-//Octubre Centre de Cultura Contemporània - ECPv5.1.6//NONSGML v1.0//EN
CALSCALE:GREGORIAN
METHOD:PUBLISH
X-WR-CALNAME:Octubre Centre de Cultura Contemporània
X-ORIGINAL-URL:https://octubre.cat
X-WR-CALDESC:Events for Octubre Centre de Cultura Contemporània
BEGIN:VTIMEZONE
TZID:Europe/Andorra
BEGIN:DAYLIGHT
TZOFFSETFROM:+0100
TZOFFSETTO:+0200
TZNAME:CEST
DTSTART:20150329T010000
END:DAYLIGHT
BEGIN:STANDARD
TZOFFSETFROM:+0200
TZOFFSETTO:+0100
TZNAME:CET
DTSTART:20151025T010000
END:STANDARD
END:VTIMEZONE
BEGIN:VEVENT
DTSTART;TZID=Europe/Andorra:20150312T190000
DTEND;TZID=Europe/Andorra:20150312T190000
DTSTAMP:20260422T001813
CREATED:20200729T170953Z
LAST-MODIFIED:20200730T041413Z
UID:10106-1426186800-1426186800@octubre.cat
SUMMARY:'Benvinguts a la societat de l’espectacle'\, de Josep Escuin
DESCRIPTION:Dijous 12 de març a les 19.00h. Acte d’inauguració de l’exposició “Les fulles mortes”\, de Josep Escuin. Espectacle audiovisual dirigit per J. S. Chapi  \n  \n  \n\nActe d’inauguració de l’exposició Les fulles mortes\, de Josep Escuin  Aquesta obra reflexiona sobre l’ésser humà\,  la seua pell\, la seua mirada\, la seua sexualitat\, la seua nuesa més enllà del propi fet d’estar nu\, sentir el seu propi cos i mostrar-lo a tota una societat.   Una societat que al mateix temps l’observa i el jutja\, una societat de la qual forma part.   L’ésser humà es el major espectacle de la vida….. i de la mort.   MÚSICA —Electric Counterpoint (S. Reich) —Tierkreis (K. Stockhausen) —Tu tot sol entre clarors (J. S. Chapi & Sebastià Miralles) —4:33 (John Cage) —Besos (J. S. Chapi) —Pell (J. S. Chapi)  MÚSICS —J.S. Chapi (percussió i direcció musical) —Miguel Angel Berbis (electrònica i difusió sonora) —Rosa Gil (violoncel) —Conxi Valero (veu)  ACTRIU —Maribel Bravo  Entrada lliure
URL:https://octubre.cat/activitat/benvinguts-a-la-societat-de-lespectacle-de-josep-escuin/
LOCATION:Sala d’actes
CATEGORIES:Exposicions
ATTACH;FMTTYPE=image/jpeg:https://octubre.cat/www/wp-content/uploads/2020/07/activitat2290.jpg
END:VEVENT
END:VCALENDAR