BEGIN:VCALENDAR
VERSION:2.0
PRODID:-//Octubre Centre de Cultura Contemporània - ECPv5.1.6//NONSGML v1.0//EN
CALSCALE:GREGORIAN
METHOD:PUBLISH
X-WR-CALNAME:Octubre Centre de Cultura Contemporània
X-ORIGINAL-URL:https://octubre.cat
X-WR-CALDESC:Events for Octubre Centre de Cultura Contemporània
BEGIN:VTIMEZONE
TZID:Europe/Andorra
BEGIN:DAYLIGHT
TZOFFSETFROM:+0100
TZOFFSETTO:+0200
TZNAME:CEST
DTSTART:20090329T010000
END:DAYLIGHT
BEGIN:STANDARD
TZOFFSETFROM:+0200
TZOFFSETTO:+0100
TZNAME:CET
DTSTART:20091025T010000
END:STANDARD
END:VTIMEZONE
BEGIN:VEVENT
DTSTART;TZID=Europe/Andorra:20091216T200000
DTEND;TZID=Europe/Andorra:20091216T200000
DTSTAMP:20260420T121013
CREATED:20200729T164629Z
LAST-MODIFIED:20200729T182711Z
UID:8669-1260993600-1260993600@octubre.cat
SUMMARY:Begoña a.k.a. B + Niño Viejo
DESCRIPTION:Dimecres 16 de desembre\, a les 20.00h: Begoña M. Santiago a.k.a B + Niño Viejo (València).   \n  \n  \n\nBegoña M. Santiago a.k.a. B Artista multidisciplinar\, la seua producció abasta la falsificació\, la instal·lació\, la fotografia\, els llibres d’artista i per descomptat\, el vídeo. La seua producció audiovisual està més pròxima\, per tant\,  al videoart\, encara que en el darrer any el seu treball s’ha nodrit de ferramentes pròpies del videojòquei\, sobretot per la seua col·laboració amb el col·lectiu Niño viejo\, del qual en forma part. El 2008 va obtenir la Beca Feima-Fundació Laxeiro a la creació artística. També ha participat en el projecte VideoDictionary\, una exposició col·lectiva itinerant al costat de Mauro Entrialgo\, Antoni Muntadas\, Doron Solomons i Alicia Framis\, entre altres\, i presentada a Loop fair (Barcelona)\, Screening at Image-Forum (Tokyo)\, Impakt Festival Utrecht (Holanda) o La Casa Encendida (Madrid).   Niño Viejo Col·lectiu d’artistes de diverses disciplines al voltant del món de la imatge. Naix com un col·lectiu de videojòqueis\, encarregats de les residències de diversos clubs de València\, com ara The Mill o Apache. A poc a poc\, van començar a elaborar projectes artístics de major envergadura\, tant en l’aspecte artístic com en el de la infraestructura. A través de la combinació de propostes de diversa índole (fotografia\, vídeo\, cinema en directe\, instal·lacions\, performances\, música\, art sonor)\, es proposen realitzar treballs que enriqueixen l’experiència tant sensorial com extrasensorial de l’espectador i que en propicien la participació. Niño Viejo són Jordi Blasco\, Miguel Ángel García a.k.a. Ojo de pollo\, Begoña Martínez a.k.a. B i Sergi Palau a.k.a. Waky\, però treballen com a plataforma oberta a altres artistes. La seua voluntat és explorar les possibilitats del llenguatge audiovisual fora de contextos ja establerts com el cine o la televisió\, buscant una relació directa amb el receptor i excitant la consciència col·lectiva sobre l’entorn.
URL:https://octubre.cat/activitat/begona-a-k-a-b-nino-viejo/
LOCATION:No definit
CATEGORIES:Cicle S0N1V1S10
ATTACH;FMTTYPE=image/jpeg:https://octubre.cat/www/wp-content/uploads/2020/07/activitat1012.jpg
END:VEVENT
END:VCALENDAR