BEGIN:VCALENDAR
VERSION:2.0
PRODID:-//Octubre Centre de Cultura Contemporània - ECPv5.1.6//NONSGML v1.0//EN
CALSCALE:GREGORIAN
METHOD:PUBLISH
X-WR-CALNAME:Octubre Centre de Cultura Contemporània
X-ORIGINAL-URL:https://octubre.cat
X-WR-CALDESC:Events for Octubre Centre de Cultura Contemporània
BEGIN:VTIMEZONE
TZID:Europe/Andorra
BEGIN:DAYLIGHT
TZOFFSETFROM:+0100
TZOFFSETTO:+0200
TZNAME:CEST
DTSTART:20230326T010000
END:DAYLIGHT
BEGIN:STANDARD
TZOFFSETFROM:+0200
TZOFFSETTO:+0100
TZNAME:CET
DTSTART:20231029T010000
END:STANDARD
END:VTIMEZONE
BEGIN:VEVENT
DTSTART;TZID=Europe/Andorra:20230509T190000
DTEND;TZID=Europe/Andorra:20230509T190000
DTSTAMP:20260421T134611
CREATED:20230425T151046Z
LAST-MODIFIED:20230426T084124Z
UID:19801-1683658800-1683658800@octubre.cat
SUMMARY:Beatriu Defior: «Política lingüística: estat de la qüestió»
DESCRIPTION:Conferència-xarrada amb Beatriu Defior\, Directora General de Política Lingüística del Govern de les Illes Balears. \nPresenta l’acte Anna Oliver i Borràs\, presidenta d’Acció Cultural del País Valencià. \n—\nActe organitzat per Acció Cultural del País Valencià dins del cicle “Política lingüística: propostes per avançar”.
URL:https://octubre.cat/activitat/beatriu-defior-politica-linguistica-estat-de-la-questio/
LOCATION:Aula 1
CATEGORIES:Política lingüística: propostes per avançar
ATTACH;FMTTYPE=image/jpeg:https://octubre.cat/www/wp-content/uploads/2023/04/Beatriu-Defior.jpeg
END:VEVENT
END:VCALENDAR