BEGIN:VCALENDAR
VERSION:2.0
PRODID:-//Octubre Centre de Cultura Contemporània - ECPv5.1.6//NONSGML v1.0//EN
CALSCALE:GREGORIAN
METHOD:PUBLISH
X-WR-CALNAME:Octubre Centre de Cultura Contemporània
X-ORIGINAL-URL:https://octubre.cat
X-WR-CALDESC:Events for Octubre Centre de Cultura Contemporània
BEGIN:VTIMEZONE
TZID:Europe/Andorra
BEGIN:DAYLIGHT
TZOFFSETFROM:+0100
TZOFFSETTO:+0200
TZNAME:CEST
DTSTART:20080330T010000
END:DAYLIGHT
BEGIN:STANDARD
TZOFFSETFROM:+0200
TZOFFSETTO:+0100
TZNAME:CET
DTSTART:20081026T010000
END:STANDARD
END:VTIMEZONE
BEGIN:VEVENT
DTSTART;TZID=Europe/Andorra:20080308T190000
DTEND;TZID=Europe/Andorra:20080308T190000
DTSTAMP:20260420T204008
CREATED:20200729T181803Z
LAST-MODIFIED:20200730T035654Z
UID:12522-1205002800-1205002800@octubre.cat
SUMMARY:Bartomeu Ferrando i Avelino Saavedra / Koke Vega
DESCRIPTION:Bartomeu Ferrando és Professor titular de performance i art intermèdia en la Facultat de Belles Arts de València. Com a perfòrmer i poeta d’acció ha participat en multitud d’esdeveniments a Europa\, Amèrica i Àsia\, i organitzat al seu torn esdeveniments internacionals. Per la seua banda\, Avelino Saavedra practica l’art d’acció des de l’any 2000\, participant en diversos festivals i trobades d’arreu de l’estat. Les seues performances sorgeixen habitualment com a reacció front a situacions concretes del món social i artístic amb l’objectiu d’incitar l’espectador a la reflexió.  Koke Vega  és una poeta\, actriu i perfórmer que\, a la manera d’una rapsoda experimental\, recita els seus poemes gestualment\, amb una forta implicació del cos. Dirigeix i imparteix els tallers intensius de vídeo accions LABOLSA que uneixen formació i col·laboració conceptual i tècnica.
URL:https://octubre.cat/activitat/bartomeu-ferrando-i-avelino-saavedra-koke-vega/
LOCATION:No definit
CATEGORIES:Arrt d'Accció
ATTACH;FMTTYPE=image/jpeg:https://octubre.cat/www/wp-content/uploads/2020/07/arrtacccio1.jpg
END:VEVENT
END:VCALENDAR