BEGIN:VCALENDAR
VERSION:2.0
PRODID:-//Octubre Centre de Cultura Contemporània - ECPv5.1.6//NONSGML v1.0//EN
CALSCALE:GREGORIAN
METHOD:PUBLISH
X-WR-CALNAME:Octubre Centre de Cultura Contemporània
X-ORIGINAL-URL:https://octubre.cat
X-WR-CALDESC:Events for Octubre Centre de Cultura Contemporània
BEGIN:VTIMEZONE
TZID:Europe/Andorra
BEGIN:DAYLIGHT
TZOFFSETFROM:+0100
TZOFFSETTO:+0200
TZNAME:CEST
DTSTART:20250330T010000
END:DAYLIGHT
BEGIN:STANDARD
TZOFFSETFROM:+0200
TZOFFSETTO:+0100
TZNAME:CET
DTSTART:20251026T010000
END:STANDARD
END:VTIMEZONE
BEGIN:VEVENT
DTSTART;TZID=Europe/Andorra:20250701T200000
DTEND;TZID=Europe/Andorra:20250701T200000
DTSTAMP:20260420T143802
CREATED:20250526T144843Z
LAST-MODIFIED:20250611T144043Z
UID:22830-1751400000-1751400000@octubre.cat
SUMMARY:BarnaSants 2025: Roger Mas
DESCRIPTION:Concert de Cloenda al País Valencià \nEl cantautor solsoní aparca per un dia la seva darrera obra amb la Cobla Sant Jordi – Ciutat de Barcelona per oferir un recital a veu i guitarra. Amb motiu dels 30 anys del festival BarnaSants\, Roger Mas recollirà l’essència del cantautor per oferir un concert només amb veu i guitarra. \nEl repertori revisarà les seves cançons i musicacions poètiques\, i també peces d’altres cantautors com a homenatge a l’esperit del festival i a la commemoració d’un viatge compartit. \n  \n \n—\nConcert organitzat pel Festival BarnaSants amb la col·laboració de l’Octubre CCC.
URL:https://octubre.cat/activitat/barnasants-2025-roger-mas/
LOCATION:Sala d’actes
CATEGORIES:BarnaSants 2025
ATTACH;FMTTYPE=image/jpeg:https://octubre.cat/www/wp-content/uploads/2025/05/ROGER-MAS-f-juan-miguel-morales-WEB-2048x1390-1.jpg
END:VEVENT
END:VCALENDAR