BEGIN:VCALENDAR
VERSION:2.0
PRODID:-//Octubre Centre de Cultura Contemporània - ECPv5.1.6//NONSGML v1.0//EN
CALSCALE:GREGORIAN
METHOD:PUBLISH
X-WR-CALNAME:Octubre Centre de Cultura Contemporània
X-ORIGINAL-URL:https://octubre.cat
X-WR-CALDESC:Events for Octubre Centre de Cultura Contemporània
BEGIN:VTIMEZONE
TZID:Europe/Andorra
BEGIN:DAYLIGHT
TZOFFSETFROM:+0100
TZOFFSETTO:+0200
TZNAME:CEST
DTSTART:20250330T010000
END:DAYLIGHT
BEGIN:STANDARD
TZOFFSETFROM:+0200
TZOFFSETTO:+0100
TZNAME:CET
DTSTART:20251026T010000
END:STANDARD
END:VTIMEZONE
BEGIN:VEVENT
DTSTART;TZID=Europe/Andorra:20250530T200000
DTEND;TZID=Europe/Andorra:20250530T200000
DTSTAMP:20260420T120058
CREATED:20250211T160039Z
LAST-MODIFIED:20250211T160039Z
UID:22318-1748635200-1748635200@octubre.cat
SUMMARY:BarnaSants 2025: Andreu Valor
DESCRIPTION:Amb la necessitat d’endinsar-se en l’essència\, el cantautor de Cocentaina\, ens presentarà un concert en solitari replet de matisos personals\, experiència i trajectòria\, proper i sincer amb tot el que vol expressar. \nVivim en temps complexos i necessitem teixir relacions fermes repletes d’humanitat\, missatge\, col·lectivitat i llibertats compartides. Un concert diferent\, allunyat de la presentació dels seus darrers treballs\, amb cançons pròpies i d’altres\, que els referents ens han condicionat en la nostra manera d’existir. \n  \n \n—\nConcert organitzat pel Festival BarnaSants amb la col·laboració de l’Octubre CCC.
URL:https://octubre.cat/activitat/barnasants-2025-andreu-valor/
LOCATION:Sala d’actes
CATEGORIES:BarnaSants 2025
ATTACH;FMTTYPE=image/jpeg:https://octubre.cat/www/wp-content/uploads/2025/02/11-ANDREU-VALOR-Fotografia-Mo´┐¢nica-Llop-2048x1638-1.jpg
END:VEVENT
END:VCALENDAR