BEGIN:VCALENDAR
VERSION:2.0
PRODID:-//Octubre Centre de Cultura Contemporània - ECPv5.1.6//NONSGML v1.0//EN
CALSCALE:GREGORIAN
METHOD:PUBLISH
X-WR-CALNAME:Octubre Centre de Cultura Contemporània
X-ORIGINAL-URL:https://octubre.cat
X-WR-CALDESC:Events for Octubre Centre de Cultura Contemporània
BEGIN:VTIMEZONE
TZID:Europe/Andorra
BEGIN:DAYLIGHT
TZOFFSETFROM:+0100
TZOFFSETTO:+0200
TZNAME:CEST
DTSTART:20240331T010000
END:DAYLIGHT
BEGIN:STANDARD
TZOFFSETFROM:+0200
TZOFFSETTO:+0100
TZNAME:CET
DTSTART:20241027T010000
END:STANDARD
END:VTIMEZONE
BEGIN:VEVENT
DTSTART;TZID=Europe/Andorra:20240913T200000
DTEND;TZID=Europe/Andorra:20240913T200000
DTSTAMP:20260420T102654
CREATED:20240306T170453Z
LAST-MODIFIED:20250710T162119Z
UID:21039-1726257600-1726257600@octubre.cat
SUMMARY:BarnaSants 2024: Aina Koda
DESCRIPTION:Percal \nLa rapera valenciana Aina Noguerolas i el deejay ebrenc Adam Gonzàlez són el duet Aina Koda\, que debuta amb Percal (Guspira Records\, 2023).  \nAina Koda és un nom destacat en l’escena emergent del rap valencià\, Premi Ovidi 2021 com a artista revelació i Premi Cases de la Música del Sona9 2022. El duet\, que ha incorporat al projecte el guitarrista suecà Joel Máñez\, ha enregistrat cançons com “Tu i jo”\, sobre el fet d’actuar com a artistes combatius i com a parella. \n  \n \n—\nConcert organitzat pel Festival BarnaSants amb la col·laboració de l’Octubre CCC.
URL:https://octubre.cat/activitat/barnasants-2024-aina-koda/
LOCATION:Sala d’actes
CATEGORIES:BarnaSants 2024
ATTACH;FMTTYPE=image/jpeg:https://octubre.cat/www/wp-content/uploads/2024/03/AINA-KODA-juliocebolla-21.jpg
END:VEVENT
END:VCALENDAR