BEGIN:VCALENDAR
VERSION:2.0
PRODID:-//Octubre Centre de Cultura Contemporània - ECPv5.1.6//NONSGML v1.0//EN
CALSCALE:GREGORIAN
METHOD:PUBLISH
X-WR-CALNAME:Octubre Centre de Cultura Contemporània
X-ORIGINAL-URL:https://octubre.cat
X-WR-CALDESC:Events for Octubre Centre de Cultura Contemporània
BEGIN:VTIMEZONE
TZID:Europe/Andorra
BEGIN:DAYLIGHT
TZOFFSETFROM:+0100
TZOFFSETTO:+0200
TZNAME:CEST
DTSTART:20220327T010000
END:DAYLIGHT
BEGIN:STANDARD
TZOFFSETFROM:+0200
TZOFFSETTO:+0100
TZNAME:CET
DTSTART:20221030T010000
END:STANDARD
END:VTIMEZONE
BEGIN:VEVENT
DTSTART;TZID=Europe/Andorra:20220408T200000
DTEND;TZID=Europe/Andorra:20220408T200000
DTSTAMP:20260420T164225
CREATED:20220208T155152Z
LAST-MODIFIED:20250624T094600Z
UID:17797-1649448000-1649448000@octubre.cat
SUMMARY:BarnaSants 2022: Xarim Aresté
DESCRIPTION:Ses entranyes \nResponsable d’una trajectòria sonora plena de ports\, transbordaments i agermanaments\, el cantautor i guitarrista de Flix estrena nou disc. \nXarim Aresté és una ànima lliure. Músic\, poeta i pintor\, el músic flixanco és una de les veus més transcendents de la cançó d’autor al nostre país. En l’àlbum Ses entrayes (RGB Suports\, 2021) fa i desfà al seu aire sempre arrelat a l’aire cru i lluminós dels seus temes i dispara a l’esperit sense deixar de posar la mirada en el context social. \n  \n \n—\nConcert organitzat pel Festival BarnaSants amb la col·laboració de l’Octubre CCC.
URL:https://octubre.cat/activitat/barnasants-2022-xarim-areste/
LOCATION:Sala d’actes
CATEGORIES:BarnaSants 2022
ATTACH;FMTTYPE=image/jpeg:https://octubre.cat/www/wp-content/uploads/2022/02/xarim-areste.jpg
END:VEVENT
END:VCALENDAR