BEGIN:VCALENDAR
VERSION:2.0
PRODID:-//Octubre Centre de Cultura Contemporània - ECPv5.1.6//NONSGML v1.0//EN
CALSCALE:GREGORIAN
METHOD:PUBLISH
X-WR-CALNAME:Octubre Centre de Cultura Contemporània
X-ORIGINAL-URL:https://octubre.cat
X-WR-CALDESC:Events for Octubre Centre de Cultura Contemporània
BEGIN:VTIMEZONE
TZID:Europe/Andorra
BEGIN:DAYLIGHT
TZOFFSETFROM:+0100
TZOFFSETTO:+0200
TZNAME:CEST
DTSTART:20210328T010000
END:DAYLIGHT
BEGIN:STANDARD
TZOFFSETFROM:+0200
TZOFFSETTO:+0100
TZNAME:CET
DTSTART:20211031T010000
END:STANDARD
END:VTIMEZONE
BEGIN:VEVENT
DTSTART;TZID=Europe/Andorra:20210312T193000
DTEND;TZID=Europe/Andorra:20210312T193000
DTSTAMP:20260421T024054
CREATED:20210118T164852Z
LAST-MODIFIED:20210305T234759Z
UID:15905-1615577400-1615577400@octubre.cat
SUMMARY:BarnaSants 2021: Sílvia Comes
DESCRIPTION:La cantant Sílvia Comes interpreta poemes de Maria-Mercè Marçal\, Felícia Fuster o Teresa Pascual. Entre les cançons de la barcelonina n’hi ha de pròpies\, musicacions i també versions\, testimoni sonor de lluites passades però que encara són vives.\n  \n \n  \nObertura de portes: 19.30h\nConcert: 19.45h\nEntrades a taquilla: 15€\nEntrades anticipades: 12 € (en aquest enllaç) \n—\nConcert organitzat pel Festival BarnaSants 2021 amb la col·laboració de l’Octubre CCC.
URL:https://octubre.cat/activitat/barnasants-2021-silvia-comes/
LOCATION:Sala d’actes
CATEGORIES:BarnaSants 2021
ATTACH;FMTTYPE=image/jpeg:https://octubre.cat/www/wp-content/uploads/2021/01/Silvia-comes.jpg
END:VEVENT
END:VCALENDAR