BEGIN:VCALENDAR
VERSION:2.0
PRODID:-//Octubre Centre de Cultura Contemporània - ECPv5.1.6//NONSGML v1.0//EN
CALSCALE:GREGORIAN
METHOD:PUBLISH
X-WR-CALNAME:Octubre Centre de Cultura Contemporània
X-ORIGINAL-URL:https://octubre.cat
X-WR-CALDESC:Events for Octubre Centre de Cultura Contemporània
BEGIN:VTIMEZONE
TZID:Europe/Andorra
BEGIN:DAYLIGHT
TZOFFSETFROM:+0100
TZOFFSETTO:+0200
TZNAME:CEST
DTSTART:20210328T010000
END:DAYLIGHT
BEGIN:STANDARD
TZOFFSETFROM:+0200
TZOFFSETTO:+0100
TZNAME:CET
DTSTART:20211031T010000
END:STANDARD
END:VTIMEZONE
BEGIN:VEVENT
DTSTART;TZID=Europe/Andorra:20210225T193000
DTEND;TZID=Europe/Andorra:20210225T193000
DTSTAMP:20260421T040905
CREATED:20210118T162251Z
LAST-MODIFIED:20210118T163501Z
UID:15894-1614281400-1614281400@octubre.cat
SUMMARY:BarnaSants 2021: Dani Flaco (25-F)
DESCRIPTION:Al alimón \nEl cantautor de l’Hospitalet Dani Flaco presenta el seu nou projecte en format acústic\, Al alimón\, en companyia d’alguns amics i col·laboradors. Després de gravar set discos i de més d’una dècada de quilòmetres i escenaris\, Flaco presenta de manera propera i íntima les seves noves cançons. La passió per escriure lletra i música ha fet que el músic de Bellvitge s’hagi guanyat el respecte i l’afecte de companys de professió com Manolo García\, Santi Balmes\, M-Clan o Javier Ruibal. \n  \n \n  \nObertura de portes: 19.30h\nConcert: 19.45h\nEntrades a taquilla: 15€\nEntrades anticipades: 12 € (en aquest enllaç) \n—\nConcert organitzat pel Festival BarnaSants 2021 amb la col·laboració de l’Octubre CCC.
URL:https://octubre.cat/activitat/barnasants-2021-dani-flaco-25-f/
LOCATION:Sala d’actes
CATEGORIES:BarnaSants 2021
ATTACH;FMTTYPE=image/jpeg:https://octubre.cat/www/wp-content/uploads/2021/01/dani-flaco.jpg
END:VEVENT
END:VCALENDAR