BEGIN:VCALENDAR
VERSION:2.0
PRODID:-//Octubre Centre de Cultura Contemporània - ECPv5.1.6//NONSGML v1.0//EN
CALSCALE:GREGORIAN
METHOD:PUBLISH
X-WR-CALNAME:Octubre Centre de Cultura Contemporània
X-ORIGINAL-URL:https://octubre.cat
X-WR-CALDESC:Events for Octubre Centre de Cultura Contemporània
BEGIN:VTIMEZONE
TZID:Europe/Andorra
BEGIN:DAYLIGHT
TZOFFSETFROM:+0100
TZOFFSETTO:+0200
TZNAME:CEST
DTSTART:20200329T010000
END:DAYLIGHT
BEGIN:STANDARD
TZOFFSETFROM:+0200
TZOFFSETTO:+0100
TZNAME:CET
DTSTART:20201025T010000
END:STANDARD
END:VTIMEZONE
BEGIN:VEVENT
DTSTART;TZID=Europe/Andorra:20200131T000000
DTEND;TZID=Europe/Andorra:20200131T000000
DTSTAMP:20260421T041517
CREATED:20200729T191324Z
LAST-MODIFIED:20200824T170311Z
UID:13672-1580428800-1580428800@octubre.cat
SUMMARY:Barnasants 2020
DESCRIPTION:Enguany\, l’Octubre CCC se suma a la 25ena edició del festival BarnaSants de cançó d’autor amb la realització de set concerts entre el 31 de gener i el 13 de març. Consulteu la programació! A la venda abonaments per als 7 concerts al preu de 40€ (estalvi de 23€). \n \n\nL’any 1996 la cançó d’autor passava pels seus pitjors moments\, i més si tenim en compte el paper destacat que va tenir\, en les dècades dels anys seixanta i setanta\, en la reivindicació de la nostra llengua en particular i la nostra cultura en general\, així com en les llibertats. Malgrat aquest context gens favorable\, es va plantar la bandera de la resistència amb un petit cicle de nou concerts de cançó\, que va tenir com espai i centre operatiu les Cotxeres del Barri de Sants\, d’aquí en ve el nom\, Barnasants. A dia d’avui la bandera segueix en peu\, amb més de 100 concerts arreu dels territoris de parla comuna\, produccions pròpies\, concerts especials\, edició de material discogràfic i literari\, I\, per a l’edició de 2020\, se suma també l’Octubre CCC amb un total de set concerts entre el 31 de gener i el 13 de març. A la venda abonaments per als 7 concerts al preu de 40€ (estalvi de 23€) a través d’aquest enllaç.
URL:https://octubre.cat/activitat/barnasants-2020/
LOCATION:No definit
CATEGORIES:Música
ATTACH;FMTTYPE=image/jpeg:https://octubre.cat/www/wp-content/uploads/2020/07/activitat3413.jpg
END:VEVENT
END:VCALENDAR