BEGIN:VCALENDAR
VERSION:2.0
PRODID:-//Octubre Centre de Cultura Contemporània - ECPv5.1.6//NONSGML v1.0//EN
CALSCALE:GREGORIAN
METHOD:PUBLISH
X-WR-CALNAME:Octubre Centre de Cultura Contemporània
X-ORIGINAL-URL:https://octubre.cat
X-WR-CALDESC:Events for Octubre Centre de Cultura Contemporània
BEGIN:VTIMEZONE
TZID:Europe/Andorra
BEGIN:DAYLIGHT
TZOFFSETFROM:+0100
TZOFFSETTO:+0200
TZNAME:CEST
DTSTART:20160327T010000
END:DAYLIGHT
BEGIN:STANDARD
TZOFFSETFROM:+0200
TZOFFSETTO:+0100
TZNAME:CET
DTSTART:20161030T010000
END:STANDARD
END:VTIMEZONE
BEGIN:VEVENT
DTSTART;TZID=Europe/Andorra:20161116T190000
DTEND;TZID=Europe/Andorra:20161116T190000
DTSTAMP:20260420T215623
CREATED:20200729T172141Z
LAST-MODIFIED:20200729T185635Z
UID:10861-1479322800-1479322800@octubre.cat
SUMMARY:Barcelona Escenari 2016: especial Agustí Villaronga
DESCRIPTION:Dimecres 16 de novembre a les 19.00h. Projecció de “Després de la pluja” i “El testament de la Rosa”. Projecció inclosa en el cicle de cinema Barcelona Escenaria i presentada per Isona Passola. Entrada lliure.  \n  \n  \n\n La sessió estarà presentada per la productora Isona Passola (Massa d’Or)  El testament de Rosa\, d’Agustí Villaronga  En juny de 2013 detectaren un càncer a l’actriu Rosa Novell. Lluitant contra l’enfermetat\, el tractament li va afectar el nervi òptic i es va quedar cega. Entre els seus treballs pendents estava la versió catalana d’una obra de teatre la Mare de Déu: “El testament de Maria”. Una aproximació a aquesta obra va acabar convertint-se en el seu propi testament.  Direcció i guió: Agustí Villaronga (2015) Música: JGR Marcus Fotografia: Josep Maria Civit Productora: Massa d’Or Produccions Durada: 46’  seguida de  Després de la pluja\, d’Agustí Villaronga  L’acció se situa en una gran ciutat on fa més de dos anys que no plou. Més concretament\, en un edifici d’oficines de luxe. És una història coral\, en la qual es narra\, durant tres dies laborables\, la vida de deu persones que es creuen constantment.  Direcció: Agustí Villaronga (2007) Guió: Agustí Villaronga\, Miquel Obiols (Obra teatral: Sergi Belbel) Música: Toni Martí Repartiment: Marisa Paredes\, Candela Peña\, Marina Gatell\, Vicenta N’Dongo\, Olalla Escribano\, Jordi Bosch\, Enric Majó\, Àlex Brendemühl\, Roger Casamajor\, Secun de la Rosa\, Núria Coll  Productora: Diagonal TV / Ficción Producciones / Televisió de Catalunya (TV3) / Televisión de Galicia Durada: 96’  — Cicle organitzat per l’Octubre Centre de Cultura Contemporània amb el patrocini de l’Institut de Cultura de Barcelona Direcció del cicle: Antonio Lloréns Entrada lliure
URL:https://octubre.cat/activitat/barcelona-escenari-2016-especial-agusti-villaronga/
LOCATION:Sala d’actes
CATEGORIES:Barcelona Escenari 2016 (cinema)
ATTACH;FMTTYPE=image/jpeg:https://octubre.cat/www/wp-content/uploads/2020/07/activitat2690.jpg
END:VEVENT
END:VCALENDAR