BEGIN:VCALENDAR
VERSION:2.0
PRODID:-//Octubre Centre de Cultura Contemporània - ECPv5.1.6//NONSGML v1.0//EN
CALSCALE:GREGORIAN
METHOD:PUBLISH
X-WR-CALNAME:Octubre Centre de Cultura Contemporània
X-ORIGINAL-URL:https://octubre.cat
X-WR-CALDESC:Events for Octubre Centre de Cultura Contemporània
BEGIN:VTIMEZONE
TZID:Europe/Andorra
BEGIN:DAYLIGHT
TZOFFSETFROM:+0100
TZOFFSETTO:+0200
TZNAME:CEST
DTSTART:20110327T010000
END:DAYLIGHT
BEGIN:STANDARD
TZOFFSETFROM:+0200
TZOFFSETTO:+0100
TZNAME:CET
DTSTART:20111030T010000
END:STANDARD
END:VTIMEZONE
BEGIN:VEVENT
DTSTART;TZID=Europe/Andorra:20111026T190000
DTEND;TZID=Europe/Andorra:20111026T190000
DTSTAMP:20260420T221520
CREATED:20200729T165622Z
LAST-MODIFIED:20260107T105812Z
UID:9286-1319655600-1319655600@octubre.cat
SUMMARY:Bar de Ciències 'Tenim futur com a espècie?'
DESCRIPTION:Bar de Ciències\nTenim futur com a espècie? Es frenarà la superpoblació? Acabarem amb la fam? Prevaldran els drets humans? Exhaurirem tots els recursos del planeta? Què és la sostenibilitat? \nAmb la participació de: Ramon Folch (socioecòleg\, director d’ERF i membre de l’IEC) i Joan Romero (catedràtic de Geografia Humana\, Universitat de València). Modera: Núria Cadenes (periodista d’El Temps). \nOrganitzen: Càtedra de Divulgació de la Ciència de la Universitat de València\, Institut d’Estudis Catalans\, Acció Cultural del País Valencià i l’Octubre CCC amb la col·laboració de Ministeri de Cultura / FECyT / UCC
URL:https://octubre.cat/activitat/bar-de-ciencies-tenim-futur-com-a-especie/
LOCATION:No definit
CATEGORIES:Espai Ciència,Premis Octubre
ATTACH;FMTTYPE=image/jpeg:https://octubre.cat/www/wp-content/uploads/2020/07/activitat1518.jpg
END:VEVENT
END:VCALENDAR