BEGIN:VCALENDAR
VERSION:2.0
PRODID:-//Octubre Centre de Cultura Contemporània - ECPv5.1.6//NONSGML v1.0//EN
CALSCALE:GREGORIAN
METHOD:PUBLISH
X-WR-CALNAME:Octubre Centre de Cultura Contemporània
X-ORIGINAL-URL:https://octubre.cat
X-WR-CALDESC:Events for Octubre Centre de Cultura Contemporània
BEGIN:VTIMEZONE
TZID:Europe/Andorra
BEGIN:DAYLIGHT
TZOFFSETFROM:+0100
TZOFFSETTO:+0200
TZNAME:CEST
DTSTART:20120325T010000
END:DAYLIGHT
BEGIN:STANDARD
TZOFFSETFROM:+0200
TZOFFSETTO:+0100
TZNAME:CET
DTSTART:20121028T010000
END:STANDARD
END:VTIMEZONE
BEGIN:VEVENT
DTSTART;TZID=Europe/Andorra:20120912T190000
DTEND;TZID=Europe/Andorra:20120912T190000
DTSTAMP:20260422T061012
CREATED:20200729T165816Z
LAST-MODIFIED:20200729T183913Z
UID:9401-1347476400-1347476400@octubre.cat
SUMMARY:Bar de ciències: 'Talking life: aspectes ètics de la biologia sintètica'
DESCRIPTION:Dimecres 12 de setembre\, a les 19.00h: amb els membres de l’equip València-biocampus participants en el concurs iGEM de biologia sintètica que exposaran el seu treball sobre els avantatges i riscos d’aquesta tecnologia  \n  \n  \n\nMembres de l’equip València-biocampus participants en el concurs iGEM de biologia sintètica exposaran el seu treball sobre els avantatges i riscos d’aquesta tecnologia:  Amb la participació de Manel Porcar (investigador de l’Institut Cavanilles i coordinador del projecte) i Maria Marín\, Pedro Luís Dorado\, Luisa María Martínez i Jorge Mariano Collantes (estudiants de biotecnologia i biologia a la Universitat de València.  Organitzen i col·laboren: Acció Cultural del País Valencià\, Institut d’Estudis Catalans\, Càtedra de Divulgació de la Ciència de la Universitat de València\, Xarxa Vives d’Universitats\, iGEM\, FECYT i UCC
URL:https://octubre.cat/activitat/bar-de-ciencies-talking-life-aspectes-etics-de-la-biologia-sintetica/
LOCATION:No definit
CATEGORIES:Espai Ciència
ATTACH;FMTTYPE=image/jpeg:https://octubre.cat/www/wp-content/uploads/2020/07/activitat1646.jpg
END:VEVENT
END:VCALENDAR