BEGIN:VCALENDAR
VERSION:2.0
PRODID:-//Octubre Centre de Cultura Contemporània - ECPv5.1.6//NONSGML v1.0//EN
CALSCALE:GREGORIAN
METHOD:PUBLISH
X-WR-CALNAME:Octubre Centre de Cultura Contemporània
X-ORIGINAL-URL:https://octubre.cat
X-WR-CALDESC:Events for Octubre Centre de Cultura Contemporània
BEGIN:VTIMEZONE
TZID:Europe/Andorra
BEGIN:DAYLIGHT
TZOFFSETFROM:+0100
TZOFFSETTO:+0200
TZNAME:CEST
DTSTART:20070325T010000
END:DAYLIGHT
BEGIN:STANDARD
TZOFFSETFROM:+0200
TZOFFSETTO:+0100
TZNAME:CET
DTSTART:20071028T010000
END:STANDARD
END:VTIMEZONE
BEGIN:VEVENT
DTSTART;TZID=Europe/Andorra:20071024T190000
DTEND;TZID=Europe/Andorra:20071024T190000
DTSTAMP:20260421T182224
CREATED:20200729T164735Z
LAST-MODIFIED:20260106T162553Z
UID:8734-1193252400-1193252400@octubre.cat
SUMMARY:Bar de ciències sobre el canvi climàtic
DESCRIPTION:Bar de ciències sobre canvi climàtic en el marc dels Premis Octubre. \nOrganitza: ACPV\, l’Institut d’Estudis Catalans i la Càtedra de Divulgació de la Ciència de la Universitat de València \nPresenta: Núria Cadenes\, periodista del setmanari El Temps \nParticipen:\n—Josep Enric Llebot\, catedràtic de Física de la UAB i membre de la Secció de Ciències i Tecnologia de l’Institut d’Estudis Catalans\n—Fernando Sapiña\, Departament de Química Inorgànica i Institut de Ciència dels Materials\, Universitat de València -Maria Josep Picó\, periodista ambiental i Directora de la revista NAT.
URL:https://octubre.cat/activitat/bar-de-ciencies-sobre-el-canvi-climatic/
LOCATION:No definit
CATEGORIES:Espai Ciència,Premis Octubre
ATTACH;FMTTYPE=image/jpeg:https://octubre.cat/www/wp-content/uploads/2020/07/espaiciencia1.jpg
END:VEVENT
END:VCALENDAR