BEGIN:VCALENDAR
VERSION:2.0
PRODID:-//Octubre Centre de Cultura Contemporània - ECPv5.1.6//NONSGML v1.0//EN
CALSCALE:GREGORIAN
METHOD:PUBLISH
X-WR-CALNAME:Octubre Centre de Cultura Contemporània
X-ORIGINAL-URL:https://octubre.cat
X-WR-CALDESC:Events for Octubre Centre de Cultura Contemporània
BEGIN:VTIMEZONE
TZID:Europe/Andorra
BEGIN:DAYLIGHT
TZOFFSETFROM:+0100
TZOFFSETTO:+0200
TZNAME:CEST
DTSTART:20180325T010000
END:DAYLIGHT
BEGIN:STANDARD
TZOFFSETFROM:+0200
TZOFFSETTO:+0100
TZNAME:CET
DTSTART:20181028T010000
END:STANDARD
END:VTIMEZONE
BEGIN:VEVENT
DTSTART;TZID=Europe/Andorra:20181003T190000
DTEND;TZID=Europe/Andorra:20181003T190000
DTSTAMP:20260420T140631
CREATED:20200729T173119Z
LAST-MODIFIED:20200729T190920Z
UID:11262-1538593200-1538593200@octubre.cat
SUMMARY:Bar de Ciències: malalties rares
DESCRIPTION:Dimecres 3 d’octubre a la cafeteria de l’Octubre CCC. Amb Lluís Montoliu\, investigador especialista en albinisme\, Centre Nacional de Biotecnologia (CSIC\, Madrid).	 \n  \n  \n\n 	 Què són les malalties minoritàries o rares? Què ens aporta l’edició genètica amb CRISPR en la recerca en malalties rares? Per què cal més inversió pública en la investigació sobre malalties rares?  Debat a propòsit de la publicació del monogràfic de la revista Mètode núm. 97 “#BIOTEC La necessària comunicació de la biotecnologia”.  Lluís Montoliu\, investigador especialista en albinisme\, Centre Nacional de Biotecnologia (CSIC\, Madrid). Modera: Reis Juan\, periodista.  — L’Espai Ciència és un programa d’activitats patrocinat per l’Institut d’Estudis Catalans\, Acció Cultural del País Valencià i la Càtedra de Divulgació de la Ciència/Unitat de Cultura Científica de la Universitat de València\, amb el suport del CSIC. Aquesta activitat compta amb la col·laboració de la Llibreria Fan Set i de la revista Mètode.
URL:https://octubre.cat/activitat/bar-de-ciencies-malalties-rares/
LOCATION:Cafeteria
CATEGORIES:Espai Ciència
ATTACH;FMTTYPE=image/jpeg:https://octubre.cat/www/wp-content/uploads/2020/07/activitat3102.jpg
END:VEVENT
END:VCALENDAR