BEGIN:VCALENDAR
VERSION:2.0
PRODID:-//Octubre Centre de Cultura Contemporània - ECPv5.1.6//NONSGML v1.0//EN
CALSCALE:GREGORIAN
METHOD:PUBLISH
X-WR-CALNAME:Octubre Centre de Cultura Contemporània
X-ORIGINAL-URL:https://octubre.cat
X-WR-CALDESC:Events for Octubre Centre de Cultura Contemporània
BEGIN:VTIMEZONE
TZID:Europe/Andorra
BEGIN:DAYLIGHT
TZOFFSETFROM:+0100
TZOFFSETTO:+0200
TZNAME:CEST
DTSTART:20160327T010000
END:DAYLIGHT
BEGIN:STANDARD
TZOFFSETFROM:+0200
TZOFFSETTO:+0100
TZNAME:CET
DTSTART:20161030T010000
END:STANDARD
END:VTIMEZONE
BEGIN:VEVENT
DTSTART;TZID=Europe/Andorra:20161019T190000
DTEND;TZID=Europe/Andorra:20161019T190000
DTSTAMP:20260421T054713
CREATED:20200729T172052Z
LAST-MODIFIED:20200729T185614Z
UID:10809-1476903600-1476903600@octubre.cat
SUMMARY:Bar de Ciències: l'eloqüència dels morts
DESCRIPTION:Dimecres 19 de novembre a les 19.00h. Amb J. M. Mulet\, Mercedes Aler i Reis Juan.  \n  \n  \n\n Com interroga la ciència forense els cadàvers per descobrir coses insospitades? Són infal·libles les proves genètiques? A quina hora s’esdevingué el crim? Qui diuen els insectes o el pol·len que fou l’assassí? El crim perfecte és només cosa del cinema i la novel·la negra?  BAR DE CIÈNCIES a propòsit de la publicació del llibre La ciència a l’ombra (ed. Pòrtic).  Participen: J. M. Mulet\, autor del llibre i professor de la Universitat Politècnica de València i Mercedes Aler\, experta en genètica forense de l’Institut de Medicina Legal i Ciències Forenses de València i membre de Pirates de la Ciència.  Modera: Reis Juan\, periodista.
URL:https://octubre.cat/activitat/bar-de-ciencies-leloquencia-dels-morts/
LOCATION:Cafeteria
CATEGORIES:Espai Ciència
ATTACH;FMTTYPE=image/jpeg:https://octubre.cat/www/wp-content/uploads/2020/07/activitat2663.jpg
END:VEVENT
END:VCALENDAR