BEGIN:VCALENDAR
VERSION:2.0
PRODID:-//Octubre Centre de Cultura Contemporània - ECPv5.1.6//NONSGML v1.0//EN
CALSCALE:GREGORIAN
METHOD:PUBLISH
X-WR-CALNAME:Octubre Centre de Cultura Contemporània
X-ORIGINAL-URL:https://octubre.cat
X-WR-CALDESC:Events for Octubre Centre de Cultura Contemporània
BEGIN:VTIMEZONE
TZID:Europe/Andorra
BEGIN:DAYLIGHT
TZOFFSETFROM:+0100
TZOFFSETTO:+0200
TZNAME:CEST
DTSTART:20080330T010000
END:DAYLIGHT
BEGIN:STANDARD
TZOFFSETFROM:+0200
TZOFFSETTO:+0100
TZNAME:CET
DTSTART:20081026T010000
END:STANDARD
END:VTIMEZONE
BEGIN:VEVENT
DTSTART;TZID=Europe/Andorra:20080709T190000
DTEND;TZID=Europe/Andorra:20080709T190000
DTSTAMP:20260421T010515
CREATED:20200729T181936Z
LAST-MODIFIED:20200730T035808Z
UID:12616-1215630000-1215630000@octubre.cat
SUMMARY:Bar de Ciències 'La Natura en venda?'
DESCRIPTION:Dimecres 9 de juliol\, 19.00h “¿La natura en venda?”\, amb Pere Puigdomènech\, Daniel Ramon\, Carmen Tomás y Valiente i Núria Cadenes  \n  \n  \n\nDe qui és el genoma humà? Es pot patentar un ésser viu? Ens enganyen amb els aliments miraculosos ‘testats científicament’? Quins són els límits de la investigació científica com a negoci?  Intervindran: Pere Puigdomènech\, professor d’Investigació del CSIC (Consell Superior d’Investigacions Científiques) Daniel Ramon\, professor d’Investigació del CSIC i director científic de Biópolis SL Carmen Tomás y Valiente Lanuza\, professora del departament de Dret Penal de la Universitat de València Modera: Núria Cadenes\, escriptora i periodista del setmanari El Temps
URL:https://octubre.cat/activitat/bar-de-ciencies-la-natura-en-venda/
LOCATION:No definit
CATEGORIES:Espai Ciència
ATTACH;FMTTYPE=image/jpeg:https://octubre.cat/www/wp-content/uploads/2020/07/espaiciencia1.jpg
END:VEVENT
END:VCALENDAR