BEGIN:VCALENDAR
VERSION:2.0
PRODID:-//Octubre Centre de Cultura Contemporània - ECPv5.1.6//NONSGML v1.0//EN
CALSCALE:GREGORIAN
METHOD:PUBLISH
X-WR-CALNAME:Octubre Centre de Cultura Contemporània
X-ORIGINAL-URL:https://octubre.cat
X-WR-CALDESC:Events for Octubre Centre de Cultura Contemporània
BEGIN:VTIMEZONE
TZID:Europe/Andorra
BEGIN:DAYLIGHT
TZOFFSETFROM:+0100
TZOFFSETTO:+0200
TZNAME:CEST
DTSTART:20080330T010000
END:DAYLIGHT
BEGIN:STANDARD
TZOFFSETFROM:+0200
TZOFFSETTO:+0100
TZNAME:CET
DTSTART:20081026T010000
END:STANDARD
END:VTIMEZONE
BEGIN:VEVENT
DTSTART;TZID=Europe/Andorra:20081022T190000
DTEND;TZID=Europe/Andorra:20081022T190000
DTSTAMP:20260421T060821
CREATED:20200729T182044Z
LAST-MODIFIED:20200730T035843Z
UID:12685-1224702000-1224702000@octubre.cat
SUMMARY:Bar de ciències: ¿es pot fer ciència viatjant?
DESCRIPTION:Dimecres 22 d’octubre a les 19.00h: ¿Es pot fer ciència viatjant?  \n  \n  \n\nLa descoberta científica a través de les exploracions del planeta. Encara queden coses per descobrir? Quines emocions són més fortes\, les de l’aventura viatgera o les de la troballa científica? És compatible el turisme amb la preservació dels paratges d’interès naturalístic i científic?  Participants: Josabel Belliure\, professora d’ecologia de la Universidad de Alcalá de Henares. Jordi Serrallonga\, director d’Homínid-Grup d’orígens humans\, Parc Científic de Barcelona/Universitat de Barcelona i guia d’expedicions de ciència i aventura. Begonya Vendrell\, investigadora del Departament de biologia marina i oceanografia de l’Institut de Ciències del Mar (CSIC) de Barcelona. Modera: Núria Cadenes\, periodista d’El Temps.
URL:https://octubre.cat/activitat/bar-de-ciencies-es-pot-fer-ciencia-viatjant/
LOCATION:No definit
CATEGORIES:Espai Ciència
ATTACH;FMTTYPE=image/jpeg:https://octubre.cat/www/wp-content/uploads/2020/07/espaiciencia1.jpg
END:VEVENT
END:VCALENDAR