BEGIN:VCALENDAR
VERSION:2.0
PRODID:-//Octubre Centre de Cultura Contemporània - ECPv5.1.6//NONSGML v1.0//EN
CALSCALE:GREGORIAN
METHOD:PUBLISH
X-WR-CALNAME:Octubre Centre de Cultura Contemporània
X-ORIGINAL-URL:https://octubre.cat
X-WR-CALDESC:Events for Octubre Centre de Cultura Contemporània
BEGIN:VTIMEZONE
TZID:Europe/Andorra
BEGIN:DAYLIGHT
TZOFFSETFROM:+0100
TZOFFSETTO:+0200
TZNAME:CEST
DTSTART:20090329T010000
END:DAYLIGHT
BEGIN:STANDARD
TZOFFSETFROM:+0200
TZOFFSETTO:+0100
TZNAME:CET
DTSTART:20091025T010000
END:STANDARD
END:VTIMEZONE
BEGIN:VEVENT
DTSTART;TZID=Europe/Andorra:20090211T190000
DTEND;TZID=Europe/Andorra:20090211T190000
DTSTAMP:20260420T224047
CREATED:20200729T182320Z
LAST-MODIFIED:20200729T182320Z
UID:12760-1234378800-1234378800@octubre.cat
SUMMARY:Bar de ciències: 'Déu i Darwin són compatibles?'
DESCRIPTION:Dimecres 11 de febrer\, a les 19.00h: “Déu i Darwin són compatibles?”\, amb Adolf Tobeña (UAB) i David Jou (UAB i IEC). Modera: Núria Cadenes (periodista)  \n  \n  \n\nCharles Darwin no sols no nega la idea de Déu\, sinó que\, a més\, en fa referència explícita en L’origen de les espècies. Darwin considera que Déu és l’arquitecte que guia i dissenya tot el procés evolutiu. Així doncs\, és possible que un i altre siguen compatibles?   Sobre aquesta qüestió en parlaran els dos convidats a aquest Bar de ciències:   David Jou\, catedràtic de física de la Universitat Autònoma de Barcelona i membre de l’Institut d’Estudis Catalans\, i   Adolf Tobeña\, catedràtic de psiquiatria de la Universitat Autònoma de Barcelona.   Moderarà l’acte Núria Cadenes\, periodista.
URL:https://octubre.cat/activitat/bar-de-ciencies-deu-i-darwin-son-compatibles/
LOCATION:No definit
CATEGORIES:Espai Ciència
ATTACH;FMTTYPE=image/jpeg:https://octubre.cat/www/wp-content/uploads/2020/07/espaiciencia1.jpg
END:VEVENT
END:VCALENDAR