BEGIN:VCALENDAR
VERSION:2.0
PRODID:-//Octubre Centre de Cultura Contemporània - ECPv5.1.6//NONSGML v1.0//EN
CALSCALE:GREGORIAN
METHOD:PUBLISH
X-WR-CALNAME:Octubre Centre de Cultura Contemporània
X-ORIGINAL-URL:https://octubre.cat
X-WR-CALDESC:Events for Octubre Centre de Cultura Contemporània
BEGIN:VTIMEZONE
TZID:Europe/Andorra
BEGIN:DAYLIGHT
TZOFFSETFROM:+0100
TZOFFSETTO:+0200
TZNAME:CEST
DTSTART:20190331T010000
END:DAYLIGHT
BEGIN:STANDARD
TZOFFSETFROM:+0200
TZOFFSETTO:+0100
TZNAME:CET
DTSTART:20191027T010000
END:STANDARD
END:VTIMEZONE
BEGIN:VEVENT
DTSTART;TZID=Europe/Andorra:20190312T190000
DTEND;TZID=Europe/Andorra:20190312T190000
DTSTAMP:20260422T020042
CREATED:20200729T173315Z
LAST-MODIFIED:20200729T191054Z
UID:11382-1552417200-1552417200@octubre.cat
SUMMARY:Bar de ciències 'Computació i mecànica quàntica'
DESCRIPTION:Dimarts 12 de març a les 19.00h\, a la cafeteria. Conversa amb David Ibáñez Gil de Ramales i José David Martín Guerrero. En col·laboració amb La Falla Immaterial.	 \n  \n  \n\n 	 Com funcionen la mecànica i els algorismes quàntics?  Gràcies a la iniciativa Qubit de La Falla Immaterial (@fallaimmaterial)  enguany la computació i la física quàntiques es troben per Falles.  Conversa amb —David Ibáñez Gil de Ramales (Federació Valenciana de Divulgació Científica) —José David Martín Guerrero (Departament d’Enginyeria Electrònica\, Universitat de València). Modera: Reis Juan\, periodista  — Una activitat de l’Espai Ciència de l’Octubre CCC amb la col·laboració de l’Escola Tècnica Superior d’Enginyeria de la Universitat de València\, la Falla Immaterial + Qubit i la Federació Valenciana de Divulgació Científica.
URL:https://octubre.cat/activitat/bar-de-ciencies-computacio-i-mecanica-quantica/
LOCATION:Cafeteria
CATEGORIES:Espai Ciència
ATTACH;FMTTYPE=image/jpeg:https://octubre.cat/www/wp-content/uploads/2020/07/activitat3225.jpg
END:VEVENT
END:VCALENDAR