BEGIN:VCALENDAR
VERSION:2.0
PRODID:-//Octubre Centre de Cultura Contemporània - ECPv5.1.6//NONSGML v1.0//EN
CALSCALE:GREGORIAN
METHOD:PUBLISH
X-WR-CALNAME:Octubre Centre de Cultura Contemporània
X-ORIGINAL-URL:https://octubre.cat
X-WR-CALDESC:Events for Octubre Centre de Cultura Contemporània
BEGIN:VTIMEZONE
TZID:Europe/Andorra
BEGIN:DAYLIGHT
TZOFFSETFROM:+0100
TZOFFSETTO:+0200
TZNAME:CEST
DTSTART:20080330T010000
END:DAYLIGHT
BEGIN:STANDARD
TZOFFSETFROM:+0200
TZOFFSETTO:+0100
TZNAME:CET
DTSTART:20081026T010000
END:STANDARD
END:VTIMEZONE
BEGIN:VEVENT
DTSTART;TZID=Europe/Andorra:20080220T190000
DTEND;TZID=Europe/Andorra:20080220T190000
DTSTAMP:20260420T204104
CREATED:20200729T181732Z
LAST-MODIFIED:20200730T035632Z
UID:12494-1203534000-1203534000@octubre.cat
SUMMARY:Bar de ciències amb motiu del Dia Internacional de Darwin
DESCRIPTION:El meu xicot és un Neandertal?  Intervenen Carles Lalueza (Universitat de Barcelona)\, Ignacio Martínez Mendizábal (Universitat d’Alcalà d’Henares i Projecte Atapuerca) i Valentín Villaverde (Universitat de València).   Modera: Núria Cadenes\, periodista.  Organitzen: Acció Cultural del País Valencià i la Càtedra de Divulgació de la Ciència de la Universitat de València   Patrocina: Institut d’Estudis Catalans   Entrada lliure
URL:https://octubre.cat/activitat/bar-de-ciencies-amb-motiu-del-dia-internacional-de-darwin/
LOCATION:No definit
CATEGORIES:Espai Ciència
ATTACH;FMTTYPE=image/jpeg:https://octubre.cat/www/wp-content/uploads/2020/07/espaiciencia1.jpg
END:VEVENT
END:VCALENDAR