BEGIN:VCALENDAR
VERSION:2.0
PRODID:-//Octubre Centre de Cultura Contemporània - ECPv5.1.6//NONSGML v1.0//EN
CALSCALE:GREGORIAN
METHOD:PUBLISH
X-WR-CALNAME:Octubre Centre de Cultura Contemporània
X-ORIGINAL-URL:https://octubre.cat
X-WR-CALDESC:Events for Octubre Centre de Cultura Contemporània
BEGIN:VTIMEZONE
TZID:Europe/Andorra
BEGIN:DAYLIGHT
TZOFFSETFROM:+0100
TZOFFSETTO:+0200
TZNAME:CEST
DTSTART:20070325T010000
END:DAYLIGHT
BEGIN:STANDARD
TZOFFSETFROM:+0200
TZOFFSETTO:+0100
TZNAME:CET
DTSTART:20071028T010000
END:STANDARD
END:VTIMEZONE
BEGIN:VEVENT
DTSTART;TZID=Europe/Andorra:20070524T000000
DTEND;TZID=Europe/Andorra:20070524T000000
DTSTAMP:20260420T192316
CREATED:20200729T171943Z
LAST-MODIFIED:20251226T174126Z
UID:10736-1179964800-1179964800@octubre.cat
SUMMARY:Bar de Ciències a propòsit de La fi de la diabetis?\, de Ramon Gomis
DESCRIPTION:Bar de Ciències a propòsit de La fi de la diabetis?\, de Ramon Gomis. \nAmb Ramon Gomis (cap del Servei d’Endocrinologia\, Nutrició i Diabetis de l’Hospital Clínic\, professor de la Facultat de Medicina de la Universitat de Barcelona i president de la Sociedad Española de Diabetes)\, Juan F. Ascaso Gimilio (cap de secció d’Endocrinologia de l’Hospital Clínic de València) i Maria del Toro (presidenta de l’Associació de Diabètics de València). Moderat per Damià Sancho\, científic.
URL:https://octubre.cat/activitat/bar-de-ciencies-a-proposit-de-la-fi-de-la-diabetis/
LOCATION:No definit
CATEGORIES:Espai Ciència
ATTACH;FMTTYPE=image/jpeg:https://octubre.cat/www/wp-content/uploads/2020/07/espaiciencia1.jpg
END:VEVENT
END:VCALENDAR