BEGIN:VCALENDAR
VERSION:2.0
PRODID:-//Octubre Centre de Cultura Contemporània - ECPv5.1.6//NONSGML v1.0//EN
CALSCALE:GREGORIAN
METHOD:PUBLISH
X-WR-CALNAME:Octubre Centre de Cultura Contemporània
X-ORIGINAL-URL:https://octubre.cat
X-WR-CALDESC:Events for Octubre Centre de Cultura Contemporània
BEGIN:VTIMEZONE
TZID:Europe/Andorra
BEGIN:DAYLIGHT
TZOFFSETFROM:+0100
TZOFFSETTO:+0200
TZNAME:CEST
DTSTART:20070325T010000
END:DAYLIGHT
BEGIN:STANDARD
TZOFFSETFROM:+0200
TZOFFSETTO:+0100
TZNAME:CET
DTSTART:20071028T010000
END:STANDARD
END:VTIMEZONE
BEGIN:VEVENT
DTSTART;TZID=Europe/Andorra:20070214T000000
DTEND;TZID=Europe/Andorra:20070214T000000
DTSTAMP:20260420T192140
CREATED:20200729T171942Z
LAST-MODIFIED:20251226T174021Z
UID:10735-1171411200-1171411200@octubre.cat
SUMMARY:Bar de Ciències a propòsit de Contra Natura\, d'Arcadi Navarro
DESCRIPTION:Bar de Ciències a propòsit de Contra Natura – L’essència conflictiva del món viu\, d’Arcadi Navarro.  Amb Arcadi Navarro (escriptor) i Emili Piera (periodista). Moderat per Manuel S. Jardí (periodista).
URL:https://octubre.cat/activitat/bar-de-ciencies-a-proposit-de-contra-natura/
LOCATION:No definit
CATEGORIES:Espai Ciència
ATTACH;FMTTYPE=image/jpeg:https://octubre.cat/www/wp-content/uploads/2020/07/espaiciencia1.jpg
END:VEVENT
END:VCALENDAR